BEGIN:VCALENDAR
VERSION:2.0
PRODID:-//ChamberMaster//Event Calendar 2.0//EN
METHOD:PUBLISH
X-PUBLISHED-TTL:P3D
REFRESH-INTERVAL:P3D
CALSCALE:GREGORIAN
BEGIN:VEVENT
DTSTART:20160428T113000Z
DTEND:20160428T130000Z
X-MICROSOFT-CDO-ALLDAYEVENT:FALSE
SUMMARY:April Educational Event & Workshop Workplace Violence & Active Shooter It's About You\, Your Management & Your People sponsored by IFMA Orlando
DESCRIPTION:Any employer is 18 times more likely to experience workplace violence (WPV) than a\n\nfire at work. We deploy fire prevention systems in every facility. Yet the vast majority of employers don't do anything about WPV. Sure\, your management has a WPV policy. They're against it. But\, there are no prevention protocols\; no reporting procedures\; no response procedures\; no team created and deployed to command and control response\; no training of employees. There has been a sharp spike in Active Shooter incidents\, 70% of which occur in businesses versus campuses. There are standards and law re every employer's responsibility to protect and respond to WPV and how you are supposed to train employees.\n\n\n\n\n\nGuest presenter: National speaker\, Bo Mitchell of 911 Consulting
X-ALT-DESC;FMTTYPE=text/html:<span style="background-color:rgb(255\, 255\, 255)\; font-family:palatino linotype\,book antiqua\,palatino\,serif\; font-size:12px">Any employer is 18 times more likely to experience workplace violence (WPV) than a</span><br />\n<span style="background-color:rgb(255\, 255\, 255)\; font-family:palatino linotype\,book antiqua\,palatino\,serif\; font-size:12px">fire at work. We deploy fire prevention systems in every facility. Yet the vast majority of employers don&rsquo\;t do anything about WPV. Sure\, your management has a WPV policy. They&rsquo\;re against it. But\, there are no prevention protocols\; no reporting procedures\; no response procedures\; no team created and deployed to command and control response\; no training of employees. There has been a sharp spike in Active Shooter incidents\, 70% of which occur in businesses versus campuses. There are standards and law re every employer&rsquo\;s responsibility to protect and respond to WPV and how you are supposed to train employees.<br />\n<br />\n<br />\nGuest presenter: National speaker\, Bo Mitchell of 911 Consulting</span>
LOCATION:The Country Club of Orlando
UID:e.2138.4394
SEQUENCE:3
DTSTAMP:20260426T014011Z
URL:https://business.seminolebusiness.org/events/details/april-educational-event-workshop-workplace-violence-active-shooter-it-s-about-you-your-management-your-people-sponsored-by-ifma-orlando-04-28-2016-4394
END:VEVENT

END:VCALENDAR
