BEGIN:VCALENDAR
VERSION:2.0
PRODID:-//ChamberMaster//Event Calendar 2.0//EN
METHOD:PUBLISH
X-PUBLISHED-TTL:P3D
REFRESH-INTERVAL:P3D
CALSCALE:GREGORIAN
BEGIN:VEVENT
DTSTART:20160927T170000Z
DTEND:20160927T210000Z
X-MICROSOFT-CDO-ALLDAYEVENT:FALSE
SUMMARY:Are you Networking or NOT Working?
DESCRIPTION:Are you networking... or NOT Working?\n\n\n\nNow\, be honest with yourself when you answer that question.\n\n\n\nMany professional sales people spend tons of time (and a substantial amount of money) attending "Networking Opportunities" and coming away with very little to show for it. You hit the chamber meetings\, the leads groups\, the "social events" but you're just not connecting with the people you need to meet\n\n\n\nDo any of these sound familiar?\n\n\n	I'm meeting lots of non-decision makers at these events\n	I can't get them to get me to their boss!\n	I don't get enough leads/referrals from my contacts\n	I'm always helping them but they never help me\n	My "Elevator Speech" is just not working anymore\n	I'm leaving money on the table... way too much money\n	My boss is on my back to change my results\n	I don't have a lot of time and/or money to spend on seminars to get me the answers I need... quickly\n	I'm tired of being a professional visitor!\n\n\n\nIf you want to give and get more referrals in one meeting than you may have had in the last 3 months... this program is for you.\n\n\n\nWhat could really effective networking do to increase your team's performance in 2016?\n\n\n\nAre you ready to maximize sustainable revenue and profits?\n\n\n\nThen what are you waiting for?\n\n\n\nPick up the phone and reserve your seats today.\n\nSEATING IS LIMITED\n\nCall 407 740 7355 to register\n\n\n\nA maximum of 35 students will be accepted!\n\nPRE-REGISTRATION IS REQUIRED\n\nOnly $99
X-ALT-DESC;FMTTYPE=text/html:<strong><u><span style="font-family:helvetica"><span style="font-size:16.5pt">Are you networking... or NOT Working?</span></span></u></strong><br />\n<br />\n<span style="font-family:helvetica"><span style="font-size:10pt">Now\, be honest with yourself when you answer that question.<br />\n<br />\nMany professional sales people spend tons of time (and a substantial amount of money) attending &quot\;Networking Opportunities&quot\; and coming away with very little to show for it. You hit the chamber meetings\, the leads groups\, the &quot\;social events&quot\; but you&#39\;re just not connecting with the people you need to meet<br />\n<br />\n<strong>Do any of these sound familiar?</strong></span></span>\n\n<ul>\n	<li><span style="font-family:helvetica"><span style="font-size:10.0pt">I&#39\;m meeting lots of non-decision makers at these events</span></span></li>\n	<li><span style="font-family:helvetica"><span style="font-size:10.0pt">I can&#39\;t get them to get me to their boss!</span></span></li>\n	<li><span style="font-family:helvetica"><span style="font-size:10.0pt">I don&#39\;t get enough leads/referrals from my contacts</span></span></li>\n	<li><span style="font-family:helvetica"><span style="font-size:10.0pt">I&#39\;m always helping them but they never help me</span></span></li>\n	<li><span style="font-family:helvetica"><span style="font-size:10.0pt">My &quot\;Elevator Speech&quot\; is just not working anymore</span></span></li>\n	<li><span style="font-family:helvetica"><span style="font-size:10.0pt">I&#39\;m leaving money on the table... way too much money</span></span></li>\n	<li><span style="font-family:helvetica"><span style="font-size:10.0pt">My boss is on my back to change my results</span></span></li>\n	<li><span style="font-family:helvetica"><span style="font-size:10.0pt">I don&#39\;t have a lot of time and/or money to spend on seminars to get me the answers I need... quickly</span></span></li>\n	<li><span style="font-family:helvetica"><span style="font-size:10.0pt">I&#39\;m tired of being a professional visitor!</span></span></li>\n</ul>\n<br />\n<span style="font-family:helvetica"><span style="font-size:10pt"><em>If you want to&nbsp\;<u>give and get more referrals</u>&nbsp\;in one meeting than you may have had in the last 3 months... this program is for you.</em></span></span><br />\n<br />\n<span style="font-size: 10pt\; font-family: helvetica\; text-align: center\;">What could really effective networking do to increase your team&#39\;s performance in 2016?</span><br />\n<br />\n<span style="font-size: 10pt\; font-family: helvetica\; text-align: center\;">Are you ready to maximize sustainable revenue and profits?</span><br />\n<br />\n<span style="font-family:helvetica"><span style="font-size:10pt">Then what are you waiting for?<br />\n<br />\nPick up the phone and reserve your seats today.<br />\nSEATING IS LIMITED<br />\nCall 407 740 7355 to register<br />\n<br />\n<strong>A maximum of 35 students will be accepted!<br />\nPRE-REGISTRATION IS REQUIRED<br />\nOnly $99</strong></span></span>
LOCATION:Sandler Training 650 S.Northlake Blvd\, Suite 430 Altamonte Springs\, FL 32701
UID:e.2138.4892
SEQUENCE:3
DTSTAMP:20260425T175813Z
URL:https://business.seminolebusiness.org/events/details/are-you-networking-or-not-working-4892
END:VEVENT

END:VCALENDAR
