BEGIN:VCALENDAR
VERSION:2.0
PRODID:-//ChamberMaster//Event Calendar 2.0//EN
METHOD:PUBLISH
X-PUBLISHED-TTL:P3D
REFRESH-INTERVAL:P3D
CALSCALE:GREGORIAN
BEGIN:VEVENT
DTSTART:20181027T220000Z
DTEND:20181028T020000Z
X-MICROSOFT-CDO-ALLDAYEVENT:FALSE
SUMMARY:Arts Alive in Seminole! to benefit The Foundation for Seminole County Public Schools
DESCRIPTION:Join us for the 22nd Anniversary of Arts Alive in Seminole!\, presented by Orlando Health South Seminole Hospital\, on Saturday\, October 27\, 2018 at the Westin Lake Mary. Since inception\, thanks to the generous support of businesses and individuals\, this event has raised more than $1.6 million to support the visual and performing arts programs in our schools.\n\nIt's going to be a special night!  Arts Alive will leave everyone feeling like a star and amazed by the talent inside Seminole County Public Schools. The evening will include VIP treatment with signature cocktails\, a gourmet dinner\, exciting live and silent auction items and of course\, an incredible show featuring performances by our students. Proceeds benefit the visual and performing arts in every school. \n\nCoffee and mini desserts will close out this special evening as guests pick up their auction winnings. \n\n\n\nWe invite you to join us in keeping the Arts Alive in Seminole!\n\n\n\nDress for the event is evening attire.\nCan't attend but still want to show your support? Consider donating to our Silent and Live Auctions!  Unique experiences\, travel and getaway packages\, dining and retail gift baskets and gift cards\, tech items\, wine and gourmet food packages\, etc. are needed to make the event a success. Donors are recognized in the event program and on mobile auction bidding software.
X-ALT-DESC;FMTTYPE=text/html:<p>Join us for the 22nd Anniversary of&nbsp\;Arts Alive in Seminole!\, presented by Orlando Health South Seminole Hospital\,&nbsp\;on Saturday\, October 27\, 2018 at the Westin Lake Mary.&nbsp\;Since inception\, thanks to the generous support of businesses and individuals\, this event has raised more than $1.6 million to support the visual and performing arts programs in our schools.</p>\n\n<p>It&rsquo\;s going to be a special night!&nbsp\; Arts Alive will leave everyone feeling like a star and amazed by the talent inside Seminole County Public Schools.&nbsp\;The evening will include VIP treatment with signature cocktails\, a&nbsp\;gourmet dinner\, exciting live and silent auction items and of course\, an&nbsp\;incredible show featuring performances by our students. Proceeds benefit the visual and performing arts in every school.&nbsp\;</p>\n\n<p>Coffee and mini desserts will close out this special evening as guests pick up their auction winnings.&nbsp\;<br />\n<br />\nWe invite you to join us in keeping the Arts Alive in Seminole!<br />\n<br />\nDress for the event is evening attire.</p>\n<strong><em>Can&#39\;t attend but still want to show your support? </em></strong>Consider donating to our Silent and Live Auctions!&nbsp\; Unique experiences\, travel and getaway packages\, dining and retail gift baskets and gift cards\, tech items\, wine and gourmet food packages\, etc. are needed to make the event a success. Donors are recognized in the event program and on mobile auction bidding software.
LOCATION:The Westin Lake Mary 2974 International Parkway\, Lake Mary\, FL 32746
UID:e.2138.9465
SEQUENCE:3
DTSTAMP:20260424T023506Z
URL:https://business.seminolebusiness.org/events/details/arts-alive-in-seminole-to-benefit-the-foundation-for-seminole-county-public-schools-10-27-2018-9465
END:VEVENT

END:VCALENDAR
