BEGIN:VCALENDAR
VERSION:2.0
PRODID:-//ChamberMaster//Event Calendar 2.0//EN
METHOD:PUBLISH
X-PUBLISHED-TTL:P3D
REFRESH-INTERVAL:P3D
CALSCALE:GREGORIAN
BEGIN:VEVENT
DTSTART:20171111T230000Z
DTEND:20171112T030000Z
X-MICROSOFT-CDO-ALLDAYEVENT:FALSE
SUMMARY:Arts Alive in Seminole! to benefit The Foundation for Seminole County Public Schools
DESCRIPTION:Join us for the 21st Anniversary of Arts Alive in Seminole!\, presented by Orlando Health South Seminole Hospital\, on Saturday\, November 11\, 2017 at the Westin Lake Mary.  Since inception\, thanks to the generous support of businesses and individuals\, this event has raised more than $1.5 million to augment the visual and performing arts programs in our schools.\n\nIt's going to be a special night!  Guests will receive the star treatment as they step out from VIP Valet parking and walk the red carpet. The flash of photographers will follow into the reception\, where guests will be surrounds by a visual arts gallery\, live painting demonstrations\, musical entertainment and silent auction.\n\nThen the show begins!  Following a gourmet dinner and live auction\, the stage will be set for 15 musical\, theatrical\, and dance performances by students and faculty.  \n\n\n\nCoffee and mini desserts will close out this special evening as guests pick up their auction winnings. \n\n\n\nDress for the event is evening attire.
X-ALT-DESC;FMTTYPE=text/html:<p>Join us for the 21st Anniversary of&nbsp\;Arts Alive in Seminole!\, presented by Orlando Health South Seminole Hospital\,&nbsp\;on Saturday\, November 11\, 2017 at the Westin Lake Mary.&nbsp\;&nbsp\;Since inception\, thanks to the generous support of businesses and individuals\, this event has raised more than $1.5 million to&nbsp\;augment the visual and performing arts programs in our schools.</p>\n\n<p>It&rsquo\;s going to be a special night!&nbsp\; Guests will receive the star treatment as they step out from VIP Valet parking and walk the red carpet. The flash of photographers will follow into the reception\, where guests will be surrounds by a visual arts gallery\, live painting demonstrations\, musical entertainment and silent auction.</p>\n\n<p>Then the show begins!&nbsp\; Following a&nbsp\;gourmet dinner and live auction\, the stage will be set for&nbsp\;15 musical\, theatrical\, and dance performances by students and faculty. &nbsp\;<br />\n<br />\nCoffee and mini desserts will close out this special evening as guests pick up their auction winnings.&nbsp\;<br />\n<br />\nDress for the event is evening attire.</p>\n
LOCATION:The Westin Lake Mary 2974 International Parkway - Lake Mary\, FL
UID:e.2138.7571
SEQUENCE:3
DTSTAMP:20260424T062153Z
URL:https://business.seminolebusiness.org/events/details/arts-alive-in-seminole-to-benefit-the-foundation-for-seminole-county-public-schools-7571
END:VEVENT

END:VCALENDAR
