BEGIN:VCALENDAR
VERSION:2.0
PRODID:-//ChamberMaster//Event Calendar 2.0//EN
METHOD:PUBLISH
X-PUBLISHED-TTL:P3D
REFRESH-INTERVAL:P3D
CALSCALE:GREGORIAN
BEGIN:VEVENT
DTSTART:20180328T190000Z
DTEND:20180328T200000Z
X-MICROSOFT-CDO-ALLDAYEVENT:FALSE
SUMMARY:Atria Park of Lake Forest - Hot Health Topics "Relieving Stress in Adults"
DESCRIPTION:Stress is part of life\, but left unchecked it can negatively impact health\, wellness and ultimately quality of life.  Many of us expect as we age\, when we?ve raised our children\, are retired and are not dealing with the hassles of the workforce\, and are not managing households that we will be stress free.  However\, that?s not the case for most.   In fact\, stress can be even more present as we age and begin to adjust to the changes we experience.  Loss of friends and loved ones\, dealing with isolation or living alone\, no longer having a sense of purpose or productivity and the physical changes and limitations can all cause more stress with less skills or ability to cope.   Join us to learn the latest and greatest in stress management techniques. \n\nPresentation by April Boykin\n\nCounseling Resource Services\, Inc\n\nwww.counselingresourceservices.com\n\n407-654-4433
X-ALT-DESC;FMTTYPE=text/html:<p><span style="font-size:14px"><span style="font-family:georgia\,serif">Stress is part of life\, but left unchecked it can negatively impact health\, wellness and ultimately quality of life.&nbsp\; Many of us expect as we age\, when we?ve raised our children\, are retired and are not dealing with the hassles of the workforce\, and are not managing households that we will be stress free.&nbsp\; However\, that?s not the case for most.&nbsp\;&nbsp\; In fact\, stress can be even more present as we age and begin to adjust to the changes we experience.&nbsp\; Loss of friends and loved ones\, dealing with isolation or living alone\, no longer having a sense of purpose or productivity and the physical changes and limitations can all cause more stress with less skills or ability to cope.&nbsp\;&nbsp\; Join us to learn the latest and greatest in stress management techniques.&nbsp\;<br>\nPresentation by April Boykin<br>\nCounseling Resource Services\, Inc<br>\nwww.counselingresourceservices.com<br>\n407-654-4433</span></span><br>\n&nbsp\;</p>\n
LOCATION:Atria Park of Lake Forest 5433 W. State Rd. 46 Sanford\, FL 32771
UID:e.2138.8803
SEQUENCE:3
DTSTAMP:20260424T132448Z
URL:https://business.seminolebusiness.org/events/details/atria-park-of-lake-forest-hot-health-topics-relieving-stress-in-adults-8803
END:VEVENT

END:VCALENDAR
