BEGIN:VCALENDAR
VERSION:2.0
PRODID:-//ChamberMaster//Event Calendar 2.0//EN
METHOD:PUBLISH
X-PUBLISHED-TTL:P3D
REFRESH-INTERVAL:P3D
CALSCALE:GREGORIAN
BEGIN:VEVENT
DTSTART:20250816T080000Z
DTEND:20250816T220000Z
X-MICROSOFT-CDO-ALLDAYEVENT:FALSE
SUMMARY:Back to School Open House at Valhallan Esports!
DESCRIPTION:?? Back to School Open House   Discover Your Gamer's Club!\n\nWe're kicking off the school year at Valhallan Wekiva Springs\, your local Youth Esports & Community Gaming Hub\, with a special Open House event for families to explore our Fall After-School Gaming Clubs.\n\n\n\nStop by\, tour the arena\, meet our coaches\, and let your gamer try out the gear!\n\n\n\nWhether your child is just starting out or ready to level up\, we've got a club for them:\n\n\n\n?? Recreational Clubs   for players who want to game casually\, stay social\, and have fun after school\n\n\n\n?? Competitive Clubs   for players ready to train and grow in structured team play (no experience needed!)\n\n\n\n?? Teen Takeover Lounge   every Wednesday\, just for teens\n\n\n\n?? Weekend Clinics & Content Creation   for players who want to sharpen skills or create cool content\n\n\n\n??? Clubs run Monday Thursday after school + weekends\n\n?? Bring a friend you both get 50% off Open Play this month!
X-ALT-DESC;FMTTYPE=text/html:<p>?? Back to School Open House &ndash\; Discover Your Gamer&rsquo\;s Club!<br />\nWe&rsquo\;re kicking off the school year at Valhallan Wekiva Springs\, your local Youth Esports &amp\; Community Gaming Hub\, with a special Open House event for families to explore our Fall After-School Gaming Clubs.<br />\n<br />\nStop by\, tour the arena\, meet our coaches\, and let your gamer try out the gear!<br />\n<br />\nWhether your child is just starting out or ready to level up\, we&rsquo\;ve got a club for them:<br />\n<br />\n?? Recreational Clubs &ndash\; for players who want to game casually\, stay social\, and have fun after school<br />\n<br />\n?? Competitive Clubs &ndash\; for players ready to train and grow in structured team play (no experience needed!)<br />\n<br />\n?? Teen Takeover Lounge &ndash\; every Wednesday\, just for teens<br />\n<br />\n?? Weekend Clinics &amp\; Content Creation &ndash\; for players who want to sharpen skills or create cool content<br />\n<br />\n??? Clubs run Monday&ndash\;Thursday after school + weekends<br />\n?? Bring a friend&mdash\;you both get 50% off Open Play this month!</p>\n
LOCATION:
UID:e.2138.37832
SEQUENCE:3
DTSTAMP:20260423T085124Z
URL:https://business.seminolebusiness.org/events/details/back-to-school-open-house-at-valhallan-esports-37832
END:VEVENT

END:VCALENDAR
