BEGIN:VCALENDAR
VERSION:2.0
PRODID:-//ChamberMaster//Event Calendar 2.0//EN
METHOD:PUBLISH
X-PUBLISHED-TTL:P3D
REFRESH-INTERVAL:P3D
CALSCALE:GREGORIAN
BEGIN:VEVENT
DTSTART:20171201T140000Z
DTEND:20171201T210000Z
X-MICROSOFT-CDO-ALLDAYEVENT:FALSE
SUMMARY:Basic QuickBooks Overview
DESCRIPTION:Having an accounting system is a critical piece of business operation. As the end of the year approaches is your accounting system in order?  Is it time to institute software in the New Year?  Quickbooks is a great tool for making bookkeeping easy!  Quickbooks 101 will go over some basic accounting principles\, navigating the software\, how to set up a company\, and a sampling of common business transactions.  Learning Quickbooks can save you time and money!
X-ALT-DESC;FMTTYPE=text/html:<br />\nHaving an accounting system is a critical piece of business operation. As the end of the year approaches is your accounting system in order?&nbsp\; Is it time to institute software in the New Year?&nbsp\; Quickbooks is a great tool for making bookkeeping easy!&nbsp\; Quickbooks 101 will go over some basic accounting principles\, navigating the software\, how to set up a company\, and a sampling of common business transactions.&nbsp\; Learning Quickbooks can save you time and money!
LOCATION:Central Florida SBDC at Seminole State College Center for Economic Development at Heathrow 1055 AAA Dr.\, Room 203 Heathrow\, FL 32746
UID:e.2138.6422
SEQUENCE:3
DTSTAMP:20260424T093819Z
URL:https://business.seminolebusiness.org/events/details/basic-quickbooks-overview-6422
END:VEVENT

END:VCALENDAR
