BEGIN:VCALENDAR
VERSION:2.0
PRODID:-//ChamberMaster//Event Calendar 2.0//EN
METHOD:PUBLISH
X-PUBLISHED-TTL:P3D
REFRESH-INTERVAL:P3D
CALSCALE:GREGORIAN
BEGIN:VEVENT
DTSTART:20170513T223000Z
DTEND:20170514T010000Z
X-MICROSOFT-CDO-ALLDAYEVENT:FALSE
SUMMARY:"Be Great" Gala 2017
DESCRIPTION:Social Hour\, Station Dining\, Live & Silent Auctions\, and Entertainment
X-ALT-DESC;FMTTYPE=text/html:Social Hour\, Station Dining\, Live &amp\; Silent Auctions\, and Entertainment
LOCATION:The Estate of Mr. and Mrs. Carl Hansla Rice Lake Loop Longwood\, FL 32779
UID:e.2138.6729
SEQUENCE:3
DTSTAMP:20260423T204529Z
URL:https://business.seminolebusiness.org/events/details/be-great-gala-2017-6729
END:VEVENT

END:VCALENDAR
