BEGIN:VCALENDAR
VERSION:2.0
PRODID:-//ChamberMaster//Event Calendar 2.0//EN
METHOD:PUBLISH
X-PUBLISHED-TTL:P3D
REFRESH-INTERVAL:P3D
CALSCALE:GREGORIAN
BEGIN:VEVENT
DTSTART:20190122T153000Z
DTEND:20190122T163000Z
X-MICROSOFT-CDO-ALLDAYEVENT:FALSE
SUMMARY:BE YOUR BEST YOU! SEE HOW 8-MINUTES CAN BE THE GAME CHANGER YOU'VE BEEN LOOKING FOR
DESCRIPTION:Learn about a medical device that can improve your Life by increasing general Blood Flow:\n\n	Enhance Athletic Performance\n	Enhance Endurance\n	Enhance Cardiac Function\n	Improve Strength-Energy-Recovery\n	Reduce Inflammation\n	Stress Reduction & Relaxation\n	Improve Concentration & Mental Acuity\n	Sleep Management\n	FDA registered device\n	NASA Collaboration
X-ALT-DESC;FMTTYPE=text/html:Learn about a medical device that can improve your Life by increasing general Blood Flow:\n<ul>\n	<li>Enhance Athletic Performance</li>\n	<li>Enhance Endurance</li>\n	<li>Enhance Cardiac Function</li>\n	<li>Improve Strength-Energy-Recovery</li>\n	<li>Reduce Inflammation</li>\n	<li>Stress Reduction &amp\; Relaxation</li>\n	<li>Improve Concentration &amp\; Mental Acuity</li>\n	<li>Sleep Management</li>\n	<li>FDA registered device</li>\n	<li>NASA Collaboration</li>\n</ul>\n
LOCATION:715 Douglas Avenue Altamonte Springs\, FL 32714
UID:e.2138.14865
SEQUENCE:3
DTSTAMP:20260423T214817Z
URL:https://business.seminolebusiness.org/events/details/be-your-best-you-see-how-8-minutes-can-be-the-game-changer-you-ve-been-looking-for-01-22-2019-14865
END:VEVENT

END:VCALENDAR
