BEGIN:VCALENDAR
VERSION:2.0
PRODID:-//ChamberMaster//Event Calendar 2.0//EN
METHOD:PUBLISH
X-PUBLISHED-TTL:P3D
REFRESH-INTERVAL:P3D
CALSCALE:GREGORIAN
BEGIN:VEVENT
DTSTART:20160921T223000Z
DTEND:20160921T233000Z
X-MICROSOFT-CDO-ALLDAYEVENT:FALSE
SUMMARY:Being Mortal - Discovering What Matters In the End
DESCRIPTION:Florida Hospital and Hospice of the Comforter invite you to a special evening with renowned surgeon and author Atul Gawande\, MD\, as he discusses aging\, death and how medicine can improve the process of these inevitable conditions. In his best-selling book "Being Mortal: Medicine and What Matters in the End\," Dr. Gawande explains that the ultimate goal is not a good death\, but a good life   all the way to the end. The first 750 guests will receive a free copy  of  "Being Mortal."\n\n\n\nPresented By: The Florida Hospital Distinguished Lecture Series Florida Hospital is honored to host Dr. Atul Gawande as part of the organization's Distinguished Lecture Series\, a unique program featuring recognized experts who discuss leading issues in health care and diverse medical topics.
X-ALT-DESC;FMTTYPE=text/html:Florida Hospital and Hospice of the Comforter invite you to a special evening with renowned surgeon and author Atul Gawande\, MD\, as he discusses aging\, death and how medicine can improve the process of these inevitable conditions. In his best-selling book &ldquo\;Being Mortal: Medicine and What Matters in the End\,&rdquo\; Dr. Gawande explains that the ultimate goal is not a good death\, but a good life &ndash\; all the way to the end. The first 750 guests will receive a free copy &nbsp\;of &nbsp\;&ldquo\;Being Mortal.&rdquo\;<br />\n<br />\nPresented By: The Florida Hospital Distinguished Lecture Series Florida Hospital is honored to host Dr. Atul Gawande as part of the organization&rsquo\;s Distinguished Lecture Series\, a unique program featuring recognized experts who discuss leading issues in health care and diverse medical topics.
LOCATION:Dr. Phillips Center for the Performing Arts 445 South Magnolia Avenue Orlando\, FL 32801 Walt Disney Theater
UID:e.2138.4875
SEQUENCE:3
DTSTAMP:20260425T175829Z
URL:https://business.seminolebusiness.org/events/details/being-mortal-discovering-what-matters-in-the-end-4875
END:VEVENT

END:VCALENDAR
