BEGIN:VCALENDAR
VERSION:2.0
PRODID:-//ChamberMaster//Event Calendar 2.0//EN
METHOD:PUBLISH
X-PUBLISHED-TTL:P3D
REFRESH-INTERVAL:P3D
CALSCALE:GREGORIAN
BEGIN:VEVENT
DTSTART:20231202T123000Z
DTEND:20231202T150000Z
X-MICROSOFT-CDO-ALLDAYEVENT:FALSE
SUMMARY:Biciketa's Sanford Saturday Social Ride
DESCRIPTION:Join us for Bicikleta's Lake Monroe Loop. This 28-mile ride will take you on an adventure around Lake Monroe. Saturday mornings - meet up is at 7:15 AM. Ride starts promptly at 7:30 AM. \n\nWe will have three paces for this ride:\n\n\n	13 - 15 MPH\n	16 - 18 MPH\n	18 - 20 MPH\n\n\nThis is an inclusive ride for our community.\n\n\n\nLearn more: https://fb.me/e/11mSdyTuA
X-ALT-DESC;FMTTYPE=text/html:<p>Join us for Bicikleta&#39\;s Lake Monroe Loop. This 28-mile ride will take you on an adventure around Lake Monroe. Saturday mornings - meet up is at 7:15 AM. Ride starts promptly at 7:30 AM.&nbsp\;</p>\n\n<p>We will have three paces for this ride:</p>\n\n<ul>\n	<li>13 - 15 MPH</li>\n	<li>16 - 18 MPH</li>\n	<li>18 - 20 MPH</li>\n</ul>\n\n<p>This is an inclusive ride for our community.<br />\n<br />\nLearn more:&nbsp\;https://fb.me/e/11mSdyTuA</p>\n
LOCATION:Bicikleta Bike Shop 229 Magnolia Avenue Sanford FL 32771
UID:e.2138.33360
SEQUENCE:3
DTSTAMP:20260424T203006Z
URL:https://business.seminolebusiness.org/events/details/biciketa-s-sanford-saturday-social-ride-12-02-2023-33360
END:VEVENT

END:VCALENDAR
