BEGIN:VCALENDAR
VERSION:2.0
PRODID:-//ChamberMaster//Event Calendar 2.0//EN
METHOD:PUBLISH
X-PUBLISHED-TTL:P3D
REFRESH-INTERVAL:P3D
CALSCALE:GREGORIAN
BEGIN:VEVENT
DTSTART:20170419T230000Z
DTEND:20170420T010000Z
X-MICROSOFT-CDO-ALLDAYEVENT:FALSE
SUMMARY:Biology Colloquium Speaker: Paul Rosolie
DESCRIPTION:As part of the Biology Colloquium Series\, the Seminole State College Environmental Initiative Club and Biology Department are pleased to host naturalist\, author\, and award-winning wildlife filmmaker Paul Rosolie\, who will describe his experiences in the Amazon Rainforest. Rosolie will also discuss his memoir Mother of God\, detailing his adventures in the Peruvian Amazon\, the most biodiverse wilderness on Earth. Everyone is welcome to come learn about his wildlife encounters and how his conservation project\, Tamandua Expeditions\, uses tourism to support rainforest conservation.\n\nA reception and book signing (with books available for purchase) will immediately follow the presentation.
X-ALT-DESC;FMTTYPE=text/html:<p>As part of the Biology Colloquium Series\, the Seminole State College Environmental Initiative Club and Biology Department are pleased to host naturalist\, author\, and award-winning wildlife filmmaker Paul Rosolie\, who will describe his experiences in the Amazon Rainforest. Rosolie will also discuss his memoir&nbsp\;<em>Mother of God\,</em>&nbsp\;detailing his adventures in the Peruvian Amazon\, the most biodiverse wilderness on Earth. Everyone is welcome to come learn about his wildlife encounters and how his conservation project\, Tamandua Expeditions\, uses tourism to support rainforest conservation.</p>\n\n<div>A reception and book signing (with books available for purchase) will immediately follow the presentation.</div>\n
LOCATION:Fine Arts Concert Hall (building G) Seminole State College of Florida Sanford/Lake Mary Campus 100 Weldon Blvd. Sanford\, FL 32773
UID:e.2138.6692
SEQUENCE:3
DTSTAMP:20260423T194014Z
URL:https://business.seminolebusiness.org/events/details/biology-colloquium-speaker-paul-rosolie-6692
END:VEVENT

END:VCALENDAR
