BEGIN:VCALENDAR
VERSION:2.0
PRODID:-//ChamberMaster//Event Calendar 2.0//EN
METHOD:PUBLISH
X-PUBLISHED-TTL:P3D
REFRESH-INTERVAL:P3D
CALSCALE:GREGORIAN
BEGIN:VEVENT
DTSTART:20180822T154500Z
DTEND:20180822T170000Z
X-MICROSOFT-CDO-ALLDAYEVENT:FALSE
SUMMARY:Blocking & Tackling Your Way to Increased Sales
DESCRIPTION:Develop a process from begining to end that will turn your networking and business development efforts into a predictable revenue model.\n	Tips and tricks on how to say connected with your prospects and clients to generate more revenue.\n	Learn the importance and impact of aligning your Customer Relationship Management (CRM) tool with your sales process.
X-ALT-DESC;FMTTYPE=text/html:<ul>\n	<li>Develop a process from begining to end that will turn your networking and business development efforts into a predictable revenue model.</li>\n	<li>Tips and tricks on how to say connected with your prospects and clients to generate more revenue.</li>\n	<li>Learn the importance and impact of aligning your Customer Relationship Management (CRM) tool with your sales process.</li>\n</ul>\n
LOCATION:Seminole Technology Business Incubation Center 1445 Dolgner Place Sanford\, FL 32771-9204
UID:e.2138.9584
SEQUENCE:3
DTSTAMP:20260424T052656Z
URL:https://business.seminolebusiness.org/events/details/blocking-tackling-your-way-to-increased-sales-9584
END:VEVENT

END:VCALENDAR
