BEGIN:VCALENDAR
VERSION:2.0
PRODID:-//ChamberMaster//Event Calendar 2.0//EN
METHOD:PUBLISH
X-PUBLISHED-TTL:P3D
REFRESH-INTERVAL:P3D
CALSCALE:GREGORIAN
BEGIN:VEVENT
DTSTART:20180412T144500Z
DTEND:20180412T164500Z
X-MICROSOFT-CDO-ALLDAYEVENT:FALSE
SUMMARY:Bloomingdales Fashion Show
DESCRIPTION:Please join us in honoring Carina Gerscovich. There will be a Mimosa Breakfast and a  Fashion Show on the runway!
X-ALT-DESC;FMTTYPE=text/html:Please join us in honoring Carina Gerscovich. There will be a Mimosa Breakfast and a&nbsp\; Fashion Show on the runway!<br />\n<br />\n&nbsp\;
LOCATION:Bloomingdales Orlando- Millenia Mall 4152 Conroy Rd\, Orlando\, FL 32839
UID:e.2138.8784
SEQUENCE:3
DTSTAMP:20260424T120420Z
URL:https://business.seminolebusiness.org/events/details/bloomingdales-fashion-show-8784
END:VEVENT

END:VCALENDAR
