BEGIN:VCALENDAR
VERSION:2.0
PRODID:-//ChamberMaster//Event Calendar 2.0//EN
METHOD:PUBLISH
X-PUBLISHED-TTL:P3D
REFRESH-INTERVAL:P3D
CALSCALE:GREGORIAN
BEGIN:VEVENT
DTSTART:20161121T180000Z
DTEND:20161121T220000Z
X-MICROSOFT-CDO-ALLDAYEVENT:FALSE
SUMMARY:Blues & Brews - Obama Care On-Site Enrollment
DESCRIPTION:Not sure which plan to select? Need assistance with the Affordable Care Act enrollment (Obama Care)\, please stop by and have one of our Licensed Agents assist you with the enrollment process. Everything can be completed at our office.
X-ALT-DESC;FMTTYPE=text/html:<span style="background-color:rgb(255\, 255\, 255)\; color:rgb(75\, 79\, 86)\; font-family:helvetica\,arial\,sans-serif\; font-size:14px">Not sure which plan to select? Need assistance with the Affordable Care Act enrollment (Obama Care)\, please stop by and have one of our Licensed Agents assist you with the enrollment process. Everything can be completed at our office.</span>
LOCATION:Liberty Tax Lake Mary 3801 W. Lake Mary Blvd.\, Unit 173 Lake Mary\, FL 32746 Office: 321-233-3533 Located next to Home Goods & TJ Maxx Corner of Rinehart Road
UID:e.2138.5758
SEQUENCE:3
DTSTAMP:20260425T150312Z
URL:https://business.seminolebusiness.org/events/details/blues-brews-5758
END:VEVENT

END:VCALENDAR
