BEGIN:VCALENDAR
VERSION:2.0
PRODID:-//ChamberMaster//Event Calendar 2.0//EN
METHOD:PUBLISH
X-PUBLISHED-TTL:P3D
REFRESH-INTERVAL:P3D
CALSCALE:GREGORIAN
BEGIN:VEVENT
DTSTART:20160406T200000Z
DTEND:20160406T230000Z
X-MICROSOFT-CDO-ALLDAYEVENT:FALSE
SUMMARY:BodyMx Client Appreciation Open House
DESCRIPTION:BodyMx Massage & Skincare invites you to our Client Appreciation night on April 6\, 2016 from 4-7pm.  Join us for an evening of wine\, snacks\, Chair Massage\, special discounts and play Wellness Roulette for a chance to win a free massage and other prizes.  Click here to RSVP.\n\n\n\nhttps://www.facebook.com/events/1575443356111688/
X-ALT-DESC;FMTTYPE=text/html:BodyMx Massage &amp\; Skincare invites you to our Client Appreciation night on April 6\, 2016 from 4-7pm. &nbsp\;Join us for an evening of wine\, snacks\, Chair Massage\, special discounts and play Wellness Roulette for a chance to win a free massage and other prizes. &nbsp\;Click here to RSVP.<br />\n<br />\n<a href="https://www.facebook.com/events/1575443356111688/">https://www.facebook.com/events/1575443356111688/</a>
LOCATION:407 Center Pointe Circle\, Suite 1647\, Altamonte Springs\, FL 32701
UID:e.2138.4395
SEQUENCE:3
DTSTAMP:20260426T013722Z
URL:https://business.seminolebusiness.org/events/details/bodymx-client-appreciation-open-house-04-06-2016-4395
END:VEVENT

END:VCALENDAR
