BEGIN:VCALENDAR
VERSION:2.0
PRODID:-//ChamberMaster//Event Calendar 2.0//EN
METHOD:PUBLISH
X-PUBLISHED-TTL:P3D
REFRESH-INTERVAL:P3D
CALSCALE:GREGORIAN
BEGIN:VEVENT
DTSTART:20180202T140000Z
DTEND:20180202T150000Z
X-MICROSOFT-CDO-ALLDAYEVENT:FALSE
SUMMARY:Book of Lists 101 - OBJ
DESCRIPTION:Let's use the Book of Lists to build new relationships and strengthen existing ones on Feb. 2nd. \nLearn how to maximize the potential of this annual publication at Orlando Business Journal's Book of Lists 101 seminar.
X-ALT-DESC;FMTTYPE=text/html:<span style="color:rgb(29\, 33\, 41)\; font-family:helvetica\,arial\,sans-serif\; font-size:14px">Let&#39\;s use the Book of Lists to build new relationships and strengthen existing ones on Feb. 2nd.&nbsp\;</span>\n<h2>Learn how to maximize the potential of this annual publication at Orlando Business Journal&#39\;s Book of Lists 101 seminar.</h2>\n<br />\n&nbsp\;
LOCATION:Orlando Business Journal 255 S Orange Ave\, Suite 650\, Orlando\, FL 32801
UID:e.2138.8742
SEQUENCE:3
DTSTAMP:20260424T112835Z
URL:https://business.seminolebusiness.org/events/details/book-of-lists-101-obj-8742
END:VEVENT

END:VCALENDAR
