BEGIN:VCALENDAR
VERSION:2.0
PRODID:-//ChamberMaster//Event Calendar 2.0//EN
METHOD:PUBLISH
X-PUBLISHED-TTL:P3D
REFRESH-INTERVAL:P3D
CALSCALE:GREGORIAN
BEGIN:VEVENT
DTSTART:20170616T130000Z
DTEND:20170616T140000Z
X-MICROSOFT-CDO-ALLDAYEVENT:FALSE
SUMMARY:Book of Lists 101 - Orlando Business Journal
DESCRIPTION:Have you ever wondered the best way to use the Book of Lists as a sales and marketing tool\, how businesses get listed in it\, and what it can do to help grow your business?\n\n\n\nJoin us for an interactive tour of the Orlando Business Journal (OBJ) and get an insider's scoop on the Book of Lists.\n\n\n\nOrlando Business Journal is Central Florida's premier source for business news and sales leads.  \n\n\n\nBy attending our Book of Lists 101 seminar\, you'll learn:\n\n \n\nHow the Book of Lists is organized and produced\n\nNew prospecting techniques designed for the Book of Lists\n\nHow to use the Book of Lists as a competitive analysis tool\n\nHow to view and use the Book of Lists online\n\nHow to follow Orlando Business Journals editorial calendar\n\nIdeas for improving your business development efforts\n\n \n\nComplimentary:\n\nParking validation\n\nContinental Breakfast\n\n\n\nFor questions please contact: Greg Fulginiti at 407-241-2904 or gfulginiti@bizjournals.com\n\n \n\n* 72 Hour cancellation policy\n\n\nParking: https://badgernet.shc.edu/file/Citrus_Club_parking.pdf?erid=0
X-ALT-DESC;FMTTYPE=text/html:<div>\n<h2 style="font-style:italic"><span style="font-family:arial\,sans-serif"><span style="font-size:12.0pt">Have you ever wondered the best way to use the Book of Lists as a sales and marketing tool\, how businesses get listed in it\, and what it can do to help grow your business?</span></span><br />\n<br />\n<span style="font-family:arial\,sans-serif"><span style="font-size:12.0pt">Join us for an interactive tour of the Orlando Business Journal (OBJ) and get an insider&#39\;s scoop on the Book of Lists.</span></span><br />\n<br />\n<span style="font-family:arial\,sans-serif"><span style="font-size:12.0pt">Orlando Business Journal is Central Florida&rsquo\;s premier source for business news and sales leads.&nbsp\; </span></span><br />\n<br />\n<span style="font-family:arial\,sans-serif"><span style="font-size:12.0pt">By attending our Book of Lists 101 seminar\, you&rsquo\;ll learn:</span></span><br />\n&nbsp\;<br />\n<span style="font-family:arial\,sans-serif"><span style="font-size:12.0pt">How the Book of Lists is organized and produced</span></span><br />\n<span style="font-family:arial\,sans-serif"><span style="font-size:12.0pt">New prospecting techniques designed for the Book of Lists</span></span><br />\n<span style="font-family:arial\,sans-serif"><span style="font-size:12.0pt">How to use the Book of Lists as a competitive analysis tool</span></span><br />\n<span style="font-family:arial\,sans-serif"><span style="font-size:12.0pt">How to view and use the Book of Lists online</span></span><br />\n<span style="font-family:arial\,sans-serif"><span style="font-size:12.0pt">How to follow Orlando Business Journals editorial calendar</span></span><br />\n<span style="font-family:arial\,sans-serif"><span style="font-size:12.0pt">Ideas for improving your business development efforts</span></span><br />\n&nbsp\;<br />\n<span style="font-family:arial\,sans-serif"><span style="font-size:12.0pt">Complimentary:</span></span><br />\n<span style="font-family:arial\,sans-serif"><span style="font-size:12.0pt">Parking validation</span></span><br />\n<span style="font-family:arial\,sans-serif"><span style="font-size:12.0pt">Continental Breakfast</span></span><br />\n<br />\n<span style="font-family:arial\,sans-serif"><span style="font-size:12.0pt">For questions please contact: Greg Fulginiti at 407-241-2904 or gfulginiti@bizjournals.com</span></span><br />\n&nbsp\;<br />\n<span style="font-family:arial\,sans-serif"><span style="font-size:12.0pt">* 72 Hour cancellation policy</span></span></h2>\n<br />\nParking:&nbsp\;<a href="https://badgernet.shc.edu/file/Citrus_Club_parking.pdf?erid=0">https://badgernet.shc.edu/file/Citrus_Club_parking.pdf?erid=0</a></div>\n
LOCATION:Orlando Business Journal 255 S Orange Ave\, Suite 650 Orlando\, FL 32801
UID:e.2138.7574
SEQUENCE:3
DTSTAMP:20260423T223458Z
URL:https://business.seminolebusiness.org/events/details/book-of-lists-101-orlando-business-journal-7574
END:VEVENT

END:VCALENDAR
