BEGIN:VCALENDAR
VERSION:2.0
PRODID:-//ChamberMaster//Event Calendar 2.0//EN
METHOD:PUBLISH
X-PUBLISHED-TTL:P3D
REFRESH-INTERVAL:P3D
CALSCALE:GREGORIAN
BEGIN:VEVENT
DTSTART:20260502T220000Z
DTEND:20260503T000000Z
X-MICROSOFT-CDO-ALLDAYEVENT:FALSE
SUMMARY:Bowl With Mom - Oviedo Bowling Center
DESCRIPTION:Looking for a fun way to celebrate with Mom this Mother's Day? Join us for a fun evening on the lanes Saturday\, May 2nd from 6:00PM to 8:00PM for our Bowl with Mom event. A night of amazing giveaways\, colored pin bowling prizes\, and fun for the whole family! Each ticket includes 2 hours of unlimited bowling\, shoes\, pizza and soda.
X-ALT-DESC;FMTTYPE=text/html:Looking for a fun way to celebrate with Mom this Mother&#39\;s Day? Join us for a fun evening on the lanes Saturday\, May 2nd from 6:00PM to 8:00PM for our Bowl with Mom event. A night of amazing giveaways\, colored pin bowling prizes\, and fun for the whole family! Each ticket includes 2 hours of unlimited bowling\, shoes\, pizza and soda.&nbsp\;<br />\n<br />\n&nbsp\;
LOCATION:Oviedo Bowling Center 376 E Broadway St\, Oviedo\, FL 32765
UID:e.2138.42476
SEQUENCE:3
DTSTAMP:20260420T111252Z
URL:https://business.seminolebusiness.org/events/details/bowl-with-mom-42476
END:VEVENT

END:VCALENDAR
