BEGIN:VCALENDAR
VERSION:2.0
PRODID:-//ChamberMaster//Event Calendar 2.0//EN
METHOD:PUBLISH
X-PUBLISHED-TTL:P3D
REFRESH-INTERVAL:P3D
CALSCALE:GREGORIAN
BEGIN:VEVENT
DTSTART:20190809T220000Z
DTEND:20190810T010000Z
X-MICROSOFT-CDO-ALLDAYEVENT:FALSE
SUMMARY:Boy Scouts of America Travel\, Sports and Entertainment Auction
DESCRIPTION:To continue our tradition of a character-building program and to meet the demands of serving our growing Scouting membership\, the Central Florida Council needs your help by supporting our 23rd Annual Boy Scout Travel\, Sports and Entertainment Auction on Friday\, August 9\, 2019 at the Ballroom at Church Street in Orlando\, Florida.\n\nOur Auction is an EXCITING event and one of Central Florida's premiere charity auctions\, featuring an array of round-trip flights\, cruises\, hotel stays\, dining certificates\, fishing excursions\, golf certificates\, unique autographed memorabilia and exciting vacation packages to more than 400 of Central Florida's most influential community leaders- all done with the excitement and anticipation through paper bidding!  The funs raised from this fundraising event provides Scouting programs to over 22\,000 youth in Central Florida!
X-ALT-DESC;FMTTYPE=text/html:<span style="font-size:12pt"><span style="font-family:calibri">To continue our tradition of a character-building program and to meet the demands of serving our growing Scouting membership\, the Central Florida Council needs your help by supporting our <strong>23<sup>rd</sup> Annual Boy Scout Travel\, Sports and Entertainment Auction</strong> on <strong>Friday\, August 9\, 2019 at the Ballroom at Church Street in Orlando\, Florida.</strong></span></span><br />\n<span style="font-size:12pt"><span style="font-family:calibri">Our Auction is an <strong>EXCITING</strong> event and one of Central Florida&rsquo\;s premiere charity auctions\, featuring an array of round-trip flights\, cruises\, hotel stays\, dining certificates\, fishing excursions\, golf certificates\, unique autographed memorabilia and exciting vacation packages to more than 400 of Central Florida&rsquo\;s most influential community leaders- all done with the excitement and anticipation through paper bidding!&nbsp\; The funs raised from this fundraising event provides Scouting programs to over 22\,000 youth in Central Florida!</span></span><br />\n&nbsp\;&nbsp\;&nbsp\;&nbsp\;
LOCATION:The Ballroom at Church Street 225 S. Garland Avenue Orlando\, Florida 32801
UID:e.2138.16226
SEQUENCE:3
DTSTAMP:20260422T035032Z
URL:https://business.seminolebusiness.org/events/details/boy-scouts-of-america-travel-sports-and-entertainment-auction-16226
END:VEVENT

END:VCALENDAR
