BEGIN:VCALENDAR
VERSION:2.0
PRODID:-//ChamberMaster//Event Calendar 2.0//EN
METHOD:PUBLISH
X-PUBLISHED-TTL:P3D
REFRESH-INTERVAL:P3D
CALSCALE:GREGORIAN
BEGIN:VEVENT
DTSTART:20161020T223000Z
DTEND:20161021T113000Z
X-MICROSOFT-CDO-ALLDAYEVENT:FALSE
SUMMARY:Boy Scouts Sporting Clays Invitational
DESCRIPTION:Our Boy Scout Sporting Clays Invitational presented by BB&T will be held at Quail Creek Plantation Shot Gunning Complex beginning on Thursday\, October 20\, 2016 and concluding on Friday October 21\, 2016. Join us for a tailgate reception and BBQ on Thursday afternoon (October 20) followed by a night of exciting games and tournaments! Shooters will wake up and enjoy a healthy\, hot breakfast followed by a day of shooting at 14 scenic\, fully automated\, sporting clays courses which spans over 1\,000 pristine acres covered in southern pines and stately oaks!  We will conclude the day with an awards luncheon followed by a silent auction. Come out and shoot in style for Scouting! Sign up TODAY!  Levels of Sponsorship include:\n\n\n	Individual Sponsor  $750\n	Bronze Sponsor   $2\,500\n	Silver Sponsor      $5\,000\n	Gold Sponsor        $7\,500\n	Platinum Sponsor  $10\,000\n\n\nAdditional Sponsorships available!
X-ALT-DESC;FMTTYPE=text/html:<span style="font-family:arial\,sans-serif">Our&nbsp\;Boy Scout Sporting Clays&nbsp\;Invitational&nbsp\;presented by BB&amp\;T&nbsp\;will be held at Quail Creek Plantation Shot Gunning Complex beginning on Thursday\, October 20\, 2016 and concluding on Friday October 21\, 2016. Join us for a tailgate reception and BBQ on Thursday afternoon (October 20) followed by a night of exciting games and tournaments! Shooters will wake up and enjoy a healthy\, hot breakfast followed by a day of shooting at 14 scenic\, fully automated\, sporting clays courses which spans over 1\,000 pristine acres covered in southern pines and stately oaks! &nbsp\;We will conclude the day with an awards luncheon followed by a silent auction. Come out and shoot in style for Scouting!&nbsp\;<a href="http://files.constantcontact.com/92c08e3e101/795cb140-f860-4447-8734-5ac24031d793.pdf" target="_blank"><span style="color:windowtext">Sign up TODAY</span></a>! &nbsp\;Levels of Sponsorship include:</span>\n\n<ul>\n	<li style="text-align:justify"><span style="font-family:arial\,sans-serif">Individual Sponsor &nbsp\;$750</span></li>\n	<li style="text-align:justify"><span style="font-family:arial\,sans-serif">Bronze Sponsor &nbsp\; $2\,500</span></li>\n	<li style="text-align:justify"><span style="font-family:arial\,sans-serif">Silver Sponsor &nbsp\; &nbsp\; &nbsp\;$5\,000</span></li>\n	<li style="text-align:justify"><span style="font-family:arial\,sans-serif">Gold Sponsor &nbsp\; &nbsp\; &nbsp\; &nbsp\;$7\,500</span></li>\n	<li style="text-align:justify"><span style="font-family:arial\,sans-serif">Platinum Sponsor &nbsp\;$10\,000</span></li>\n</ul>\n\n<div style="text-align:justify"><span style="font-family:arial\,sans-serif">Additional Sponsorships available!</span></div>\n
LOCATION:Quail Creek Plantation 12399 Northeast 224th Street Okeechobee\, FL 34972
UID:e.2138.4879
SEQUENCE:3
DTSTAMP:20260425T164718Z
URL:https://business.seminolebusiness.org/events/details/boy-scouts-sporting-clays-invitational-4879
END:VEVENT

END:VCALENDAR
