BEGIN:VCALENDAR
VERSION:2.0
PRODID:-//ChamberMaster//Event Calendar 2.0//EN
METHOD:PUBLISH
X-PUBLISHED-TTL:P3D
REFRESH-INTERVAL:P3D
CALSCALE:GREGORIAN
BEGIN:VEVENT
DTSTART:20190914T133000Z
DTEND:20190914T143000Z
X-MICROSOFT-CDO-ALLDAYEVENT:FALSE
SUMMARY:Brain Health Dr. Bill Sears
DESCRIPTION:Concerned about brain health?  Brain Health expert\, Dr. Bill Sears has help for "The D's":\n\n	PTSD\n	ADD-ADHD\n	Autism\n	Depression / Anxiety\n	Preventing Alzheimer's and Degenerative Brain Disease\n\nCalm your concerns and come hear him for FREE! Be early\, there will be standing room only!
X-ALT-DESC;FMTTYPE=text/html:<strong>Concerned about brain health?&nbsp\; Brain Health expert\, Dr. Bill Sears has help for &quot\;The D&#39\;s&quot\;:</strong>\n<ul>\n	<li><strong>PTSD</strong></li>\n	<li><strong>ADD-ADHD</strong></li>\n	<li><strong>Autism</strong></li>\n	<li><strong>Depression / Anxiety</strong></li>\n	<li><strong>Preventing Alzheimer&#39\;s and Degenerative Brain Disease</strong></li>\n</ul>\n<strong>Calm your concerns and come hear him for FREE! Be early\, there will be standing room only!</strong>
LOCATION:Maitland Civic Center 641 Maitland Ave Maitland FL\, 32751
UID:e.2138.16564
SEQUENCE:3
DTSTAMP:20260422T021452Z
URL:https://business.seminolebusiness.org/events/details/brain-health-dr-bill-sears-16564
END:VEVENT

END:VCALENDAR
