BEGIN:VCALENDAR
VERSION:2.0
PRODID:-//ChamberMaster//Event Calendar 2.0//EN
METHOD:PUBLISH
X-PUBLISHED-TTL:P3D
REFRESH-INTERVAL:P3D
CALSCALE:GREGORIAN
BEGIN:VEVENT
DTSTART:20160305T140000Z
DTEND:20160305T160000Z
X-MICROSOFT-CDO-ALLDAYEVENT:FALSE
SUMMARY:Breakfast with the Bunny
DESCRIPTION:Join us for a fun morning of face-painting and breakfast with the bunny! Tickets on sale starting NOW through 3/4/16 at Guest Services. $2 per ticket while supplies last. Must have a ticket to attend the event. Buy early to guarentee your spot.\n\n\n\n \n\n\n\nSponsored by Athletic Apex and Chick-fil-a
X-ALT-DESC;FMTTYPE=text/html:<div>\n<div>\n<div>Join us for a fun morning of face-painting and breakfast with the bunny! Tickets on sale starting NOW through 3/4/16 at Guest Services. $2 per ticket while supplies last. Must have a ticket to attend the event. Buy early to guarentee your spot.</div>\n</div>\n\n<div>\n<div>&nbsp\;</div>\n</div>\n\n<div>\n<div>Sponsored by Athletic Apex and Chick-fil-a</div>\n</div>\n</div>\n
LOCATION:Seminole Towne Center
UID:e.2138.4362
SEQUENCE:3
DTSTAMP:20260426T031221Z
URL:https://business.seminolebusiness.org/events/details/breakfast-with-the-bunny-03-05-2016-4362
END:VEVENT

END:VCALENDAR
