BEGIN:VCALENDAR
VERSION:2.0
PRODID:-//ChamberMaster//Event Calendar 2.0//EN
METHOD:PUBLISH
X-PUBLISHED-TTL:P3D
REFRESH-INTERVAL:P3D
CALSCALE:GREGORIAN
BEGIN:VEVENT
DTSTART:20160429T160000Z
DTEND:20160429T210000Z
X-MICROSOFT-CDO-ALLDAYEVENT:FALSE
SUMMARY:Broad and Cassel Orlando Health Care Forum
DESCRIPTION:Attorneys from Broad and Cassel's nationally recognized Health Law Practice Group alongside professionals from some of the nation's leading health care companies will discuss today's rapidly changing health care landscape at the second annual Broad and Cassel Orlando Health Care Forum on April 29\, 2016.\n\nNow in its second year\, the event's keynote speaker includes IBM Healthcare's Chief Medical Information Officer Michael Weiner\, DO\, MSM\, MSIST\, with a presentation on health data and technology.\n\nPanelists include:\n\nKelly A. Conroy\n\nSenior Advisor and Executive Director of Florida Division\, Aledade\, Inc.\n\nNancy Hayt\, Esq.\n\nVice President of Corporate Responsibility\, Adventist Health System\n\nJulie L. Nielsen\, CPA\, CFF\, CGMA\n\nManaging Director\, Berkeley Research Group Health Analytics\n\nJeanette C. Schreiber\, JD\, MSW\n\nAssociate Vice President for Medical Affairs and Chief Legal Officer\, UCF College of Medicine\n\nThere is no cost to attend and registration includes lunch at noon and a reception following the presentations. To register\, click here or contact Elizabeth Levine at elevine@broadandcassel.com or 407-839-4229.
X-ALT-DESC;FMTTYPE=text/html:<p>Attorneys from Broad and Cassel&rsquo\;s nationally recognized Health Law Practice Group alongside professionals from some of the nation&rsquo\;s leading health care companies will discuss today&rsquo\;s rapidly changing health care landscape at the second annual Broad and Cassel Orlando Health Care Forum on April 29\, 2016.</p>\n\n<p>Now in its second year\, the event&rsquo\;s keynote speaker includes <strong>IBM Healthcare&rsquo\;s Chief Medical Information Officer Michael Weiner\, DO\, MSM\, MSIST</strong>\, with a presentation on health data and technology.</p>\n\n<p>Panelists include:</p>\n\n<p><strong><em>Kelly A. Conroy</em></strong><br />\nSenior Advisor and Executive Director of Florida Division\, Aledade\, Inc.</p>\n\n<p><strong><strong><em>Nancy Hayt\, Esq.</em></strong></strong><br />\nVice President of Corporate Responsibility\, Adventist Health System</p>\n\n<p><strong><strong><strong><em>Julie L. Nielsen</em>\, CPA\, CFF\, CGMA</strong></strong></strong><br />\nManaging Director\, Berkeley Research Group Health Analytics</p>\n\n<p><strong><strong><strong><strong><em>Jeanette C. Schreiber\, JD\, MSW</em></strong></strong></strong></strong><br />\nAssociate Vice President for Medical Affairs and Chief Legal Officer\, UCF College of Medicine</p>\n\n<p>There is no cost to attend and registration includes lunch at noon and a reception following the presentations. To register\, <a href="http://healthlawfla.com/events-2/orlando-health-forum/">click here</a> or contact Elizabeth Levine at <a href="mailto:elevine@broadandcassel.com?subject=Orlando%20Health%20Care%20Forum%20Inquiry">elevine@broadandcassel.com</a> or 407-839-4229.</p>\n
LOCATION:Broad and Cassel\, 390 N. Orange Ave.\, Suite 1400\, Orlando\, FL 32801
UID:e.2138.4398
SEQUENCE:3
DTSTAMP:20260426T014144Z
URL:https://business.seminolebusiness.org/events/details/broad-and-cassel-orlando-health-care-forum-04-29-2016-4398
END:VEVENT

END:VCALENDAR
