BEGIN:VCALENDAR
VERSION:2.0
PRODID:-//ChamberMaster//Event Calendar 2.0//EN
METHOD:PUBLISH
X-PUBLISHED-TTL:P3D
REFRESH-INTERVAL:P3D
CALSCALE:GREGORIAN
BEGIN:VEVENT
DTSTART:20190117T160000Z
DTEND:20190117T180000Z
X-MICROSOFT-CDO-ALLDAYEVENT:FALSE
SUMMARY:Brokers Open
DESCRIPTION:Come visit this spectacular Broker's Open\, complete with food\, wine\, dessert and giveaways!
X-ALT-DESC;FMTTYPE=text/html:Come visit this spectacular Broker&#39\;s Open\, complete with food\, wine\, dessert and giveaways!
LOCATION:2514 Oakbank Ct. St. Cloud\, FL 34771
UID:e.2138.14873
SEQUENCE:3
DTSTAMP:20260423T214201Z
URL:https://business.seminolebusiness.org/events/details/brokers-open-01-17-2019-14873
END:VEVENT

END:VCALENDAR
