BEGIN:VCALENDAR
VERSION:2.0
PRODID:-//ChamberMaster//Event Calendar 2.0//EN
METHOD:PUBLISH
X-PUBLISHED-TTL:P3D
REFRESH-INTERVAL:P3D
CALSCALE:GREGORIAN
BEGIN:VEVENT
DTSTART:20181219T233000Z
DTEND:20181220T023000Z
X-MICROSOFT-CDO-ALLDAYEVENT:FALSE
SUMMARY:Bubbles & Caviar Dinner\, Santiago's Bodega Altamonte Springs
DESCRIPTION:Join us for a fun filled night of Bubbles & Caviar!\n\n5 courses with 5 sparkling pairings.
X-ALT-DESC;FMTTYPE=text/html:Join us for a fun filled night of Bubbles &amp\; Caviar!<br />\n5 courses with 5 sparkling pairings.<br />\n&nbsp\;
LOCATION:Santiago's Bodega Altamonte Springs 1185 Spring Centre South Blvd Ste 1080 Altamonte Springs\, Fl 32714
UID:e.2138.14827
SEQUENCE:3
DTSTAMP:20260423T232605Z
URL:https://business.seminolebusiness.org/events/details/bubbles-caviar-dinner-santiago-s-bodega-altamonte-springs-14827
END:VEVENT

END:VCALENDAR
