BEGIN:VCALENDAR
VERSION:2.0
PRODID:-//ChamberMaster//Event Calendar 2.0//EN
METHOD:PUBLISH
X-PUBLISHED-TTL:P3D
REFRESH-INTERVAL:P3D
CALSCALE:GREGORIAN
BEGIN:VEVENT
DTSTART:20160901T220000Z
DTEND:20160901T233000Z
X-MICROSOFT-CDO-ALLDAYEVENT:FALSE
SUMMARY:Builder's BBQ
DESCRIPTION:Construction industry professionals are invited to Habitat for Humanity of Seminole-Apopka's Annual Builder's BBQ on the evening of Thursday\, September 1\, 2016.  You'll enjoy dinner and libations at this complimentary after-hours event\, while learning about opportunities to partner with Habitat for Humanity in making a meaningful impact on the community we all share.
X-ALT-DESC;FMTTYPE=text/html:Construction industry professionals are invited to Habitat for Humanity of Seminole-Apopka&#39\;s&nbsp\;Annual Builder&#39\;s BBQ on the evening of Thursday\, September 1\, 2016.&nbsp\; You&#39\;ll enjoy dinner and libations at this complimentary after-hours event\, while learning about opportunities to partner with Habitat for Humanity in making a meaningful impact on the community we all share.
LOCATION:Offices of Wharton-Smith\, Inc 750 Monroe Road Sanford\, FL 32771
UID:e.2138.4830
SEQUENCE:3
DTSTAMP:20260425T175814Z
URL:https://business.seminolebusiness.org/events/details/builder-s-bbq-09-01-2016-4830
END:VEVENT

END:VCALENDAR
