BEGIN:VCALENDAR
VERSION:2.0
PRODID:-//ChamberMaster//Event Calendar 2.0//EN
METHOD:PUBLISH
X-PUBLISHED-TTL:P3D
REFRESH-INTERVAL:P3D
CALSCALE:GREGORIAN
BEGIN:VEVENT
DTSTART:20180822T230000Z
DTEND:20180823T010000Z
X-MICROSOFT-CDO-ALLDAYEVENT:FALSE
SUMMARY:Building Wealth & Asset Accumulation Workshop & Networking
DESCRIPTION:Join us Wednesday\, August 22nd\, from 7 - 9 pm for our Complimentary Workshop.  Register https://freedomseries.eventbrite.com\n\n\n\n"Building Wealth & Asset Accumulation Workshop" \n\nWhat you will learn this workshop:\n\nv  Investing Early vs Waiting Longer\n\nv  The Rule of 72\n\nv  The effect of taxes and inflation on your purchasing power\n\nv  Dollar Cost Averaging\n\nv  Mutual Funds\n\nv  Saving for your children's education\n\nThis workshop is complimentary. Bring your friends\, co-workers and family.\n\n\n\nLooking forward to seeing you.\n\n\n\nRegister: https://freedomseries.eventbrite.com
X-ALT-DESC;FMTTYPE=text/html:<p><span style="color: black\; font-family: arial black\,sans-serif\; font-size: 12pt\;">Join us <u>Wednesday</u></span><u><span style="color: black\; font-family: arial\,sans-serif\; font-size: 12pt\;">\,</span></u><u><span style="color: black\; font-family: arial black\,sans-serif\; font-size: 12pt\;"> August 22nd</span></u><span style="color: black\; font-family: arial black\,sans-serif\; font-size: 12pt\;">\, from 7 - 9 pm for our Complimentary Workshop.&nbsp\; Register </span><span style="font-size: 16px\;"><strong>https://freedomseries.eventbrite.com</strong></span><br />\n<br />\n<span style="color: black\; font-family: arial black\,sans-serif\; font-size: 12pt\;">&quot\;Building Wealth &amp\; Asset Accumulation Workshop&quot\;&nbsp\;</span></p>\n\n<p><span style="color: black\; font-family: arial black\,sans-serif\; font-size: 12pt\;">What you will learn this workshop:</span></p>\n\n<p style="text-align: justify\;"><span style="color: black\; font-family: wingdings\; font-size: 12pt\;">v&nbsp\; </span><span style="color: black\; font-family: arial black\,sans-serif\; font-size: 12pt\;">Investing Early vs Waiting Longer</span></p>\n\n<p style="text-align: justify\;"><span style="color: black\; font-family: wingdings\; font-size: 12pt\;">v&nbsp\; </span><span style="color: black\; font-family: arial black\,sans-serif\; font-size: 12pt\;">The Rule of 72</span></p>\n\n<p style="text-align: justify\;"><span style="color: black\; font-family: wingdings\; font-size: 12pt\;">v&nbsp\; </span><span style="color: black\; font-family: arial black\,sans-serif\; font-size: 12pt\;">The effect of taxes and inflation on your purchasing power</span></p>\n\n<p style="text-align: justify\;"><span style="color: black\; font-family: wingdings\; font-size: 12pt\;">v&nbsp\; </span><span style="color: black\; font-family: arial black\,sans-serif\; font-size: 12pt\;">Dollar Cost Averaging</span></p>\n\n<p style="text-align: justify\;"><span style="color: black\; font-family: wingdings\; font-size: 12pt\;">v&nbsp\; </span><span style="color: black\; font-family: arial black\,sans-serif\; font-size: 12pt\;">Mutual Funds</span></p>\n\n<p style="text-align: justify\;"><span style="color: black\; font-family: wingdings\; font-size: 12pt\;">v&nbsp\; </span><span style="color: black\; font-family: arial black\,sans-serif\; font-size: 12pt\;">Saving for your children&rsquo\;s education</span></p>\n\n<p><span style="color: black\; font-family: arial black\,sans-serif\; font-size: 12pt\;">This workshop is complimentary. Bring your friends\, co-workers&nbsp\;and family.<br />\n<br />\nLooking forward to seeing you.</span><br />\n<br />\n<span style="color: rgb(0\, 0\, 0)\; font-family: arial black\,sans-serif\; font-size: 16px\; background-color: transparent\;">Register: </span><span style="font-size: 16px\;"><span style="color: rgb(51\, 51\, 51)\; background-color: transparent\;"><strong>https://freedomseries.eventbrite.com</strong></span></span></p>\n
LOCATION:801 International Pkwy Suite 500 Lake Mary\, FL 32746
UID:e.2138.9586
SEQUENCE:3
DTSTAMP:20260424T051238Z
URL:https://business.seminolebusiness.org/events/details/building-wealth-asset-accumulation-workshop-networking-9586
END:VEVENT

END:VCALENDAR
