BEGIN:VCALENDAR
VERSION:2.0
PRODID:-//ChamberMaster//Event Calendar 2.0//EN
METHOD:PUBLISH
X-PUBLISHED-TTL:P3D
REFRESH-INTERVAL:P3D
CALSCALE:GREGORIAN
BEGIN:VEVENT
DTSTART:20250918T153000Z
DTEND:20250918T170000Z
X-MICROSOFT-CDO-ALLDAYEVENT:FALSE
SUMMARY:Business Connections Altamonte Springs
DESCRIPTION:Come meet with like-minded people who want to build relationships as they build their business. Also\, learn about how to protect your business and your personal assets. The cost of this event is the purchase of your lunch.
X-ALT-DESC;FMTTYPE=text/html:Come meet with like-minded people who want to build relationships as they build their business. Also\, learn about how to protect your business and your personal assets. The cost of this event is the purchase of your lunch.
LOCATION:Fiesta Cancun 260 Douglas Avenue Altamonte Springs Florida
UID:e.2138.36335
SEQUENCE:3
DTSTAMP:20260423T072410Z
URL:https://business.seminolebusiness.org/events/details/business-connections-altamonte-springs-09-18-2025-36335
END:VEVENT

END:VCALENDAR
