BEGIN:VCALENDAR
VERSION:2.0
PRODID:-//ChamberMaster//Event Calendar 2.0//EN
METHOD:PUBLISH
X-PUBLISHED-TTL:P3D
REFRESH-INTERVAL:P3D
CALSCALE:GREGORIAN
BEGIN:VEVENT
DTSTART:20250905T153000Z
DTEND:20250905T170000Z
X-MICROSOFT-CDO-ALLDAYEVENT:FALSE
SUMMARY:Business Connections Sanford
DESCRIPTION:COME MEET YOUR FUTURE CLIENT\, REFERRAL PARTNER OR NETWORKING BUDDY. GREAT FOOD AND LOCATION.
X-ALT-DESC;FMTTYPE=text/html:COME MEET YOUR FUTURE CLIENT\, REFERRAL PARTNER OR NETWORKING BUDDY. GREAT FOOD AND LOCATION.
LOCATION:Decision Tactical
UID:e.2138.37704
SEQUENCE:3
DTSTAMP:20260423T071747Z
URL:https://business.seminolebusiness.org/events/details/business-connections-sanford-09-05-2025-37704
END:VEVENT

END:VCALENDAR
