BEGIN:VCALENDAR
VERSION:2.0
PRODID:-//ChamberMaster//Event Calendar 2.0//EN
METHOD:PUBLISH
X-PUBLISHED-TTL:P3D
REFRESH-INTERVAL:P3D
CALSCALE:GREGORIAN
BEGIN:VEVENT
DTSTART;VALUE=DATE:20180407
DTEND;VALUE=DATE:20180408
TRANSP:TRANSPARENT
X-MICROSOFT-CDO-ALLDAYEVENT:TRUE
SUMMARY:Business Funding Conference
DESCRIPTION:Business Funding Conference 2018!\n\nThere's a SCIENCE to Funding Your Business and We've CRACKED The CODE!\nApril 7th\, 2018 - 9am to 7pm - Hyatt Regency Orlando Intl. Airport\n\nhttp://businessfundingconference.com\n\n10 Business Funding Experts   One Place\, One Day\, One Chance! The Business Funding Conference 2018 April 7.\n\nWhat if you could raise the capital you need for your Startup or Stage One Business without going through the banks and had a cash-flow plan that helps you realistically predict your income and expenses before you take the plunge or your next step in growth?\n\nYou'll learn how to do both and from the professionals\, like Sprowtt\, CEO Space International\, SynerVision Leadership Foundation\, andMoneyMiners.Biz who have helped thousands of business owners successfully launch and grow their enterprises at the#BusinessFundingConference 2018. Be there in person or stream it live on Saturday\, April 7.
X-ALT-DESC;FMTTYPE=text/html:<h2><span style="color: rgb(255\, 0\, 0)\;"><strong>Business Funding Conference 2018!</strong></span></h2>\n\n<h3><strong>There&#39\;s a SCIENCE to Funding Your Business and We&#39\;ve CRACKED The CODE!</strong></h3>\n<strong>April 7th\, 2018 - 9am to 7pm - Hyatt Regency Orlando Intl. Airport<br />\n<a href="http://businessfundingconference.com">http://businessfundingconference.com</a></strong>\n\n<p>10 Business Funding Experts &ndash\; One Place\, One Day\, One Chance! The Business Funding Conference 2018 April 7.</p>\n\n<p>What if you could raise the capital you need for your Startup or Stage One Business without going through the banks and had a cash-flow plan that helps you realistically predict your income and expenses before you take the plunge or your next step in growth?</p>\n\n<p>You&rsquo\;ll learn how to do both and from the professionals\, like&nbsp\;<a class="profileLink" href="https://www.facebook.com/Sprowtt/?fref=mentions" style="color: rgb(54\, 88\, 153)\; font-family: inherit\; cursor: pointer\; text-decoration-line: none\;">Sprowtt</a>\,&nbsp\;<a class="profileLink" href="https://www.facebook.com/ceospaceInternational/?fref=mentions" style="color: rgb(54\, 88\, 153)\; font-family: inherit\; cursor: pointer\; text-decoration-line: none\;">CEO Space International</a>\,&nbsp\;<a class="profileLink" href="https://www.facebook.com/synervisionleadership/?fref=mentions" style="color: rgb(54\, 88\, 153)\; font-family: inherit\; cursor: pointer\; text-decoration-line: none\;">SynerVision Leadership Foundation</a>\, and<a class="profileLink" href="https://www.facebook.com/moneyminers.biz/?fref=mentions" style="color: rgb(54\, 88\, 153)\; font-family: inherit\; cursor: pointer\; text-decoration-line: none\;">MoneyMiners.Biz</a>&nbsp\;who have helped thousands of business owners successfully launch and grow their enterprises at the<a class="_58cn" href="https://www.facebook.com/hashtag/businessfundingconference?source=feed_text" style="color: rgb(54\, 88\, 153)\; font-family: inherit\; cursor: pointer\; text-decoration-line: none\;"><span style="font-family: inherit\;"><span style="font-family: inherit\;">#</span><span style="font-family: inherit\;">BusinessFundingConference</span></span></a>&nbsp\;2018. Be there in person or stream it live on Saturday\, April 7.</p>\n\n<p>&nbsp\;</p>\n
LOCATION:Hyatt Regency Orlando Intl. Airport 9300 Jeff Fuqua Blvd Orlando\, Florida\, USA\, 32827
UID:e.2138.8823
SEQUENCE:3
DTSTAMP:20260424T120127Z
URL:https://business.seminolebusiness.org/events/details/business-funding-conference-8823
END:VEVENT

END:VCALENDAR
