BEGIN:VCALENDAR
VERSION:2.0
PRODID:-//ChamberMaster//Event Calendar 2.0//EN
METHOD:PUBLISH
X-PUBLISHED-TTL:P3D
REFRESH-INTERVAL:P3D
CALSCALE:GREGORIAN
BEGIN:VEVENT
DTSTART:20140521T190000Z
DTEND:20140521T230000Z
X-MICROSOFT-CDO-ALLDAYEVENT:FALSE
SUMMARY:Business Growth Expo
DESCRIPTION:Get maximum EXPOsure for your business at the 2014 Business Growth Expo & BizMix. This year's featured speaker is Central Florida's barbecue king\, John Rivers. Don't miss your chance to hear Chef Rivers share his story of starting a business and of course\, taste some food samples and check out his new cookbook! Engage with hundreds of Central Florida business professionals\, more than 60 exhibitors and learn from an outstanding line up of speakers sure to give you and your employees new strategies for growing your business.
X-ALT-DESC;FMTTYPE=text/html:Get maximum EXPOsure for your business at the 2014 Business Growth Expo & BizMix. This year's featured speaker is Central Florida's barbecue king\, John Rivers. Don't miss your chance to hear Chef Rivers share his story of starting a business and of course\, taste some food samples and check out his new cookbook! Engage with hundreds of Central Florida business professionals\, more than 60 exhibitors and learn from an outstanding line up of speakers sure to give you and your employees new strategies for growing your business.
LOCATION:Orlando Science Center 777 East Princeton Street Orlando FL 32803
UID:e.2138.1591
SEQUENCE:3
DTSTAMP:20260420T112202Z
URL:https://business.seminolebusiness.org/events/details/business-growth-expo-05-21-2014-1591
END:VEVENT

END:VCALENDAR
