BEGIN:VCALENDAR
VERSION:2.0
PRODID:-//ChamberMaster//Event Calendar 2.0//EN
METHOD:PUBLISH
X-PUBLISHED-TTL:P3D
REFRESH-INTERVAL:P3D
CALSCALE:GREGORIAN
BEGIN:VEVENT
DTSTART:20160908T133000Z
DTEND:20160908T153000Z
X-MICROSOFT-CDO-ALLDAYEVENT:FALSE
SUMMARY:Business Startup Basics. Where do I Start?
DESCRIPTION:In many ways\, there has never been a better time to start a business. Learn how to properly launch your business to ensure success. Understand the critical pieces of the puzzle and how they all fit together. We will discuss the legal forms of ownership\, licensing and tax requirements\, capital and labor\, rent versus purchase\, insurance and various other business start-up issues.
X-ALT-DESC;FMTTYPE=text/html:In many ways\, there has never been a better time to start a business. Learn how to properly launch your business to ensure success. Understand the critical pieces of the puzzle and how they all fit together. We will discuss the legal forms of ownership\, licensing and tax requirements\, capital and labor\, rent versus purchase\, insurance and various other business start-up issues.
LOCATION:Center for Business Development 1445 Dolgner Place Sanford\, FL 32771
UID:e.2138.4783
SEQUENCE:3
DTSTAMP:20260425T181447Z
URL:https://business.seminolebusiness.org/events/details/business-startup-basics-where-do-i-start-09-08-2016-4783
END:VEVENT

END:VCALENDAR
