BEGIN:VCALENDAR
VERSION:2.0
PRODID:-//ChamberMaster//Event Calendar 2.0//EN
METHOD:PUBLISH
X-PUBLISHED-TTL:P3D
REFRESH-INTERVAL:P3D
CALSCALE:GREGORIAN
BEGIN:VEVENT
DTSTART:20190710T220000Z
DTEND:20190711T000000Z
X-MICROSOFT-CDO-ALLDAYEVENT:FALSE
SUMMARY:Camaraderie Foundation 10 Years Celebration
DESCRIPTION:Help us celebrate 10 years of serving Veterans and families battling post-traumatic stress and other invisible wounds of war. Come out and meet our leadership\, staff and our most dedicated supporters. Hear stories from those who have benefited from our programs and learn how you can get involved. Enjoy food\, drinks\, entertainment and raffle prizes!
X-ALT-DESC;FMTTYPE=text/html:Help us celebrate 10 years of serving Veterans and families battling post-traumatic stress and other invisible wounds of war. Come out and meet our leadership\, staff and our most dedicated supporters. Hear stories from those who have benefited from our programs and learn how you can get involved. Enjoy food\, drinks\, entertainment and raffle prizes!&nbsp\;
LOCATION:Mercedes Benz of Orlando 1100 Rinehart Road Sanford\, FL 32771
UID:e.2138.16218
SEQUENCE:3
DTSTAMP:20260422T050125Z
URL:https://business.seminolebusiness.org/events/details/camaraderie-foundation-10-years-celebration-16218
END:VEVENT

END:VCALENDAR
