BEGIN:VCALENDAR
VERSION:2.0
PRODID:-//ChamberMaster//Event Calendar 2.0//EN
METHOD:PUBLISH
X-PUBLISHED-TTL:P3D
REFRESH-INTERVAL:P3D
CALSCALE:GREGORIAN
BEGIN:VEVENT
DTSTART:20181010T220000Z
DTEND:20181011T000000Z
X-MICROSOFT-CDO-ALLDAYEVENT:FALSE
SUMMARY:Camaraderie Foundation After Hours Event With Mercedes Benz and Cox Media
DESCRIPTION:Veterans and their families struggle every day from the psychological wounds of war\, making return to civilian and family life difficult after deployment completion.\n\nAt Camaraderie Foundation\, our goal is to connect Post- 9/11 Veterans\, current Service Members\, and their families with counseling services. It is through the support of people like you\, that we are able to provide the gift of mental health wellness.\n\nPLEASE JOIN Camaraderie Foundation and to help raise money for our "Saving Lives. Saving Families" Campaign and help us reach our goal of serving 1\,000 additional veterans by December of 2019.\n\nCelebrate with complimentary small tasty  bites\, beverages\, raffle\, music\, and a great networking opportunity!
X-ALT-DESC;FMTTYPE=text/html:<p style="text-align: center\;">Veterans and their families struggle every day from the psychological wounds of war\, making return to civilian and family life difficult after deployment completion.</p>\n\n<p style="text-align: center\;">At Camaraderie Foundation\, our goal is to connect Post- 9/11 Veterans\, current Service Members\, and their families with counseling services. It is through the support of people like you\, that we are able to provide the gift of mental health wellness.</p>\n\n<p style="text-align: center\;"><strong>PLEASE JOIN</strong>&nbsp\;Camaraderie Foundation and<a href="https://www.53.com/content/fifth-third/en.html" style="background-position: center\; margin: 0px\; padding: 0px\; outline: 0px\; border: 0px currentColor\; transition:200ms ease-in-out !important\; border-image: none\; color: rgb(13\, 138\, 217)\; font-family: inherit\; font-style: inherit\; font-weight: inherit\; vertical-align: baseline\; max-width: 100%\; box-sizing: border-box\; background-color: transparent\;">&nbsp\;</a>to help raise money for our &ldquo\;Saving Lives. Saving Families&rdquo\; Campaign and help us reach our goal of serving 1\,000 additional veterans by December of 2019.</p>\n\n<p style="text-align: center\;"><strong>Celebrate with complimentary small tasty&nbsp\; bites\, beverages\, raffle\, music\, and a great networking opportunity!</strong></p>\n
LOCATION:Mercedes Benz Orlando-Maitland 810 Orlando Ave Suite A Maitland\, FL 32751
UID:e.2138.14779
SEQUENCE:3
DTSTAMP:20260424T040128Z
URL:https://business.seminolebusiness.org/events/details/camaraderie-foundation-after-hours-event-with-mercedes-benz-and-cox-media-14779
END:VEVENT

END:VCALENDAR
