BEGIN:VCALENDAR
VERSION:2.0
PRODID:-//ChamberMaster//Event Calendar 2.0//EN
METHOD:PUBLISH
X-PUBLISHED-TTL:P3D
REFRESH-INTERVAL:P3D
CALSCALE:GREGORIAN
BEGIN:VEVENT
DTSTART:20251009T163000Z
DTEND:20251009T183000Z
X-MICROSOFT-CDO-ALLDAYEVENT:FALSE
SUMMARY:Campus READ in Partnership with Speaker Series: Author Erin Stewart
DESCRIPTION:"Campus READ in Partnership with Speaker Series" is sponsored by the Florida Blue Foundation. This partnership event features award-winning author Erin Stewart whose presentation will be based on her book\, The Words We Keep. This young adult novel received the prestigious Schneider Family Book Award from the American Library Association for its portrayal of the disability experience and has been lauded for its message about mental health.\n\n \n\nJoin us for this informative and encouraging talk on using poetry and words to write about tough topics like mental health and how speaking up\, connecting and sharing is so important for mental health\, and life in general.\n\n \n\nThis presentation will be held in Seminole State's Sanford/Lake Mary Campus Library (building UP) and will be streamed online and in the College's Altamonte Springs Campus and Lee Campus at Oviedo libraries.\n\n \n\nFree and open to the public. Learn more at seminolestate.edu/speaker-series.\n\n \n\nCampus READ is a program sponsored by the Seminole State College Libraries started in 2025.
X-ALT-DESC;FMTTYPE=text/html:<div>&quot\;Campus READ in Partnership with Speaker Series&quot\; is sponsored by the Florida Blue Foundation. This partnership event features award-winning author Erin Stewart whose presentation will be based on her book\, <em>The Words We Keep</em>. This young adult novel received the prestigious Schneider Family Book Award from the American Library Association for its portrayal of the disability experience and has been lauded for its message about mental health.<br />\n&nbsp\;</div>\n\n<div>Join us for this informative and encouraging talk on using poetry and words to write about tough topics like mental health and how speaking up\, connecting and sharing is so important for mental health\, and life in general.<br />\n&nbsp\;</div>\n\n<div>This presentation will be held in Seminole State&rsquo\;s Sanford/Lake Mary Campus Library (building UP) and will be streamed online and in the College&rsquo\;s Altamonte Springs Campus and Lee Campus at Oviedo libraries.<br />\n&nbsp\;</div>\n\n<div>Free and open to the public. Learn more at&nbsp\;<a class="x1i10hfl xjbqb8w x1ejq31n x18oe1m7 x1sy0etr xstzfhl x972fbf x10w94by x1qhh985 x14e42zd x9f619 x1ypdohk xt0psk2 x3ct3a4 xdj266r x14z9mp xat24cr x1lziwak xexx8yu xyri2b x18d9i69 x1c1uobl x16tdsg8 x1hl2dhg xggy1nq x1a2a7pz xkrqix3 x1sur9pj x1fey0fg x1s688f" href="http://seminolestate.edu/speaker-series?fbclid=IwZXh0bgNhZW0CMTAAYnJpZBExVEk0Zzg0bDI5Mnp6YjFxNAEee6b9v7xwKtjqurcU5GDdxd8PhHHpg63s2DJlUxsF3OyazJ6h1iAIVF-XNwY_aem_HMVqM0Bw5nZNd1jMScA0mQ" rel="nofollow noreferrer" style="color: rgb(0\, 100\, 209)\; cursor: pointer\; text-decoration-line: none\; text-align: inherit\; list-style-type: none\; box-sizing: border-box\; background-color: transparent\; outline: none\; -webkit-tap-highlight-color: transparent\; font-weight: 600\; touch-action: manipulation\; display: inline\; border-inline-width: 0px\; margin-inline: 0px\; border-inline-style: none\; padding-inline: 0px\; padding-bottom: 0px\; border-top-style: none\; border-bottom-width: 0px\; border-bottom-style: none\; border-top-width: 0px\; margin-bottom: 0px\; margin-top: 0px\; padding-top: 0px\; font-family: inherit\;" tabindex="0" target="_blank">seminolestate.edu/speaker-series</a>.<br />\n&nbsp\;</div>\n\n<div>Campus READ is a program sponsored by the Seminole State College Libraries started in 2025.</div>\n
LOCATION:Seminole State College of Florida Sanford/Lake Mary Campus Library (building UP) 100 Weldon Blvd. Sanford\, FL 32773
UID:e.2138.38737
SEQUENCE:3
DTSTAMP:20260423T053803Z
URL:https://business.seminolebusiness.org/events/details/campus-read-in-partnership-with-speaker-series-author-erin-stewart-38737
END:VEVENT

END:VCALENDAR
