BEGIN:VCALENDAR
VERSION:2.0
PRODID:-//ChamberMaster//Event Calendar 2.0//EN
METHOD:PUBLISH
X-PUBLISHED-TTL:P3D
REFRESH-INTERVAL:P3D
CALSCALE:GREGORIAN
BEGIN:VEVENT
DTSTART:20181016T223000Z
DTEND:20181016T233000Z
X-MICROSOFT-CDO-ALLDAYEVENT:FALSE
SUMMARY:Cancer Prevention Workshop
DESCRIPTION:The CURE is in PREVENTION! \n\n\n\nJoin us to learn and understand:\n\nHow to increase your Immune System by 300%.\n\nLifestyle Habits to avoid Cancer\n\nHow genetics really play a role in Cancer\n\n\n\nSadly in our society 1 in 3 people have had a loved one affected by Cancer.
X-ALT-DESC;FMTTYPE=text/html:<span style="color: rgb(29\, 33\, 41)\; font-family: helvetica\,arial\,sans-serif\; font-size: 14px\;">The CURE is in PREVENTION!&nbsp\;</span><br />\n<br />\n<span style="color: rgb(29\, 33\, 41)\; font-family: helvetica\,arial\,sans-serif\; font-size: 14px\;">Join us to learn and understand:</span><br />\n<span style="color: rgb(29\, 33\, 41)\; font-family: helvetica\,arial\,sans-serif\; font-size: 14px\;">How to increase your Immune System by 300%.</span><br />\n<span style="color: rgb(29\, 33\, 41)\; font-family: helvetica\,arial\,sans-serif\; font-size: 14px\;">Lifestyle Habits to avoid Cancer</span><br />\n<span style="color: rgb(29\, 33\, 41)\; font-family: helvetica\,arial\,sans-serif\; font-size: 14px\;">How genetics really play a role in Cancer</span><br />\n<br />\n<span style="color: rgb(29\, 33\, 41)\; font-family: helvetica\,arial\,sans-serif\; font-size: 14px\;">Sadly in our society 1 in 3 people have had a loved one affected by Cancer.</span>
LOCATION:172 Sausalito Blvd. Casselberry\, Florida 32707
UID:e.2138.14778
SEQUENCE:3
DTSTAMP:20260424T021314Z
URL:https://business.seminolebusiness.org/events/details/cancer-prevention-workshop-14778
END:VEVENT

END:VCALENDAR
