BEGIN:VCALENDAR
VERSION:2.0
PRODID:-//ChamberMaster//Event Calendar 2.0//EN
METHOD:PUBLISH
X-PUBLISHED-TTL:P3D
REFRESH-INTERVAL:P3D
CALSCALE:GREGORIAN
BEGIN:VEVENT
DTSTART:20180421T220000Z
DTEND:20180422T030000Z
X-MICROSOFT-CDO-ALLDAYEVENT:FALSE
SUMMARY:Cancerbank Charity Poker Tournament
DESCRIPTION:Join Us for the annual Cancerbank Poker Tournament on April 21\, 2018\n\n$50.00 Buy In\n\n$1000 Gift Card for 1st Place\n\nSilent & Live Auction\n\nBBQ & Beverages\n\nDoors open @ 6PM\n\n100 Aero Lane Sanford FL\n\n\n\nCancerbank is an all volunteer organization with no administrative overhead. 100% of the proceeds go directly to support families to help offset the unforeseen and devastating costs associated with cancer. Cancerbank.org is a ministry of Holy Cross Lutheran Church of Lake Mary - a 501c3 organization. Donations are tax deductible.
X-ALT-DESC;FMTTYPE=text/html:Join Us for the annual Cancerbank Poker Tournament on April 21\, 2018<br />\n$50.00 Buy In<br />\n$1000 Gift Card for 1st Place<br />\nSilent &amp\; Live Auction<br />\nBBQ &amp\; Beverages<br />\nDoors open @ 6PM<br />\n100 Aero Lane Sanford FL<br />\n<br />\nCancerbank is an all volunteer organization with no administrative overhead. 100% of the proceeds go directly to support families to help offset the unforeseen and devastating costs associated with cancer. Cancerbank.org is a ministry of Holy Cross Lutheran Church of Lake Mary - a 501c3 organization. Donations are tax deductible.
LOCATION:Holy Cross Lutheran Academy Upper School Auditorium 100 Aero Lane Sanford FL 32771
UID:e.2138.8820
SEQUENCE:3
DTSTAMP:20260424T120419Z
URL:https://business.seminolebusiness.org/events/details/cancerbank-charity-fundraiser-8820
END:VEVENT

END:VCALENDAR
