BEGIN:VCALENDAR
VERSION:2.0
PRODID:-//ChamberMaster//Event Calendar 2.0//EN
METHOD:PUBLISH
X-PUBLISHED-TTL:P3D
REFRESH-INTERVAL:P3D
CALSCALE:GREGORIAN
BEGIN:VEVENT
DTSTART:20171212T220000Z
DTEND:20171213T010000Z
X-MICROSOFT-CDO-ALLDAYEVENT:FALSE
SUMMARY:Capital Land Settlements' Holiday Open House
DESCRIPTION:You are invited to our Annual Holiday Open House December 12\, 2017 from 5:00 p.m. to 8:00 p.m. in our Winter Spring office. We are excited to celebrate this holiday season with you! We will have hors d'oeuvres and drinks and a fun social time. We support Hope Helps' Christmas in the City that helps many people and families\, and ask you to bring and donate one of the below when coming to our party\; they need the below:\n\n\n\nToys\, canned food\, jeans\, books\, blankets\, jackets\, diapers\, all ages of clothes\, socks\, shoes and money donations made out to Hope Helps. Thank you for donations!!\n\n\n\nIf you have questions please contact us at (407) 790-7461 or email jmangum@gocapitalland.com
X-ALT-DESC;FMTTYPE=text/html:You are invited to our Annual Holiday Open House December 12\, 2017 from 5:00 p.m. to 8:00 p.m. in our Winter Spring office. We are excited to celebrate this holiday season with you! We will have&nbsp\;hors d&#39\;oeuvres and drinks and a fun social time. We support Hope Helps&#39\; Christmas in the City that helps many people and families\, and ask you to bring and donate one of the below when coming to our party\; they need the below:<br />\n<br />\nToys\, canned food\, jeans\, books\, blankets\, jackets\, diapers\, all ages of clothes\, socks\, shoes and money donations made out to Hope Helps. Thank you for donations!!<br />\n<br />\nIf you have questions please contact us at (407) 790-7461 or email jmangum@gocapitalland.com
LOCATION:Capital Land Settlements 1056 Willa Springs Drive Winter Springs FL 32708
UID:e.2138.8635
SEQUENCE:3
DTSTAMP:20260424T094229Z
URL:https://business.seminolebusiness.org/events/details/capital-land-settlements-holiday-open-house-8635
END:VEVENT

END:VCALENDAR
