BEGIN:VCALENDAR
VERSION:2.0
PRODID:-//ChamberMaster//Event Calendar 2.0//EN
METHOD:PUBLISH
X-PUBLISHED-TTL:P3D
REFRESH-INTERVAL:P3D
CALSCALE:GREGORIAN
BEGIN:VEVENT
DTSTART:20170204T150000Z
DTEND:20170204T170000Z
X-MICROSOFT-CDO-ALLDAYEVENT:FALSE
SUMMARY:Car Care Workshop
DESCRIPTION:Tint World  Automotive Styling Centers  Longwood\, the area's leader in window tinting\, mobile electronics\, vehicle customization\, and automotive accessories\, is teaming-up with Mobile Empire Detailing\, the local leader in full-service luxury detailing\, to conduct Central Florida's first-ever Free "Open to the Public" Car Care Workshop on Saturday\, February 4th.\n\n\n\nWith over 35 years of experience in automotive accessories\, Tint World  will have their experts on-hand to share their knowledge on numerous topics\, including:\n\n	Selecting the best Window Tint\, and how it will prolong the life of your vehicle's interior.\n	The benefits of Paint Protection Film and its ability to keep your paint looking new for a guaranteed 10 years.\n	Adding Backup Cameras\, Collision Avoidance Systems\, and other safety options to protect your vehicle from collisions.\n\nMobile Empire Detailing's master detailers will be educating consumers on the methods the professionals use to properly care for their vehicles\, including:\n\n\n	Basic Detailing Information\n	\n		The "2 bucket wash method"\n		What does a clay bar do and will it hurt your vehicle?\n	\n	\n	Intermediate\n	\n		What is paint correction and is it good for you vehicle's paint?\n	\n	\n	Advanced\n	\n		Learning about the science behind the world's best protective coatings.
X-ALT-DESC;FMTTYPE=text/html:<a href="https://www.tintworld.com/locations/fl/longwood-028/">Tint World&reg\; Automotive Styling Centers&trade\; Longwood</a>\, the area&rsquo\;s leader in window tinting\, mobile electronics\, vehicle customization\, and automotive accessories\, is teaming-up with <a href="http://www.mobileempiredetailing.com/">Mobile Empire Detailing</a>\, the local leader in full-service luxury detailing\, to conduct Central Florida&rsquo\;s first-ever Free &ldquo\;Open to the Public&rdquo\; Car Care Workshop on Saturday\, February 4th.<br />\n<br />\nWith over 35 years of experience in automotive accessories\, Tint World&reg\; will have their experts on-hand to share their knowledge on numerous topics\, including:\n<ul>\n	<li>Selecting the best Window Tint\, and how it will prolong the life of your vehicle&rsquo\;s interior.</li>\n	<li>The benefits of Paint Protection Film and its ability to keep your paint looking new for a guaranteed 10 years.</li>\n	<li>Adding Backup Cameras\, Collision Avoidance Systems\, and other safety options to protect your vehicle from collisions.</li>\n</ul>\nMobile Empire Detailing&rsquo\;s master detailers will be educating consumers on the methods the professionals use to properly care for their vehicles\, including:\n\n<ul>\n	<li>Basic Detailing Information\n	<ul style="list-style-type:circle">\n		<li>The &ldquo\;2 bucket wash method&rdquo\;</li>\n		<li>What does a clay bar do and will it hurt your vehicle?</li>\n	</ul>\n	</li>\n	<li>Intermediate\n	<ul style="list-style-type:circle">\n		<li>What is paint correction and is it good for you vehicle&rsquo\;s paint?</li>\n	</ul>\n	</li>\n	<li>Advanced\n	<ul style="list-style-type:circle">\n		<li>Learning about the science behind the world&rsquo\;s best protective coatings.</li>\n	</ul>\n	</li>\n</ul>\n
LOCATION:Mobile Empire Detailing 3840 St Johns Pkwy Sanford\, Florida 32771
UID:e.2138.6439
SEQUENCE:3
DTSTAMP:20260423T161433Z
URL:https://business.seminolebusiness.org/events/details/car-care-workshop-6439
END:VEVENT

END:VCALENDAR
