BEGIN:VCALENDAR
VERSION:2.0
PRODID:-//ChamberMaster//Event Calendar 2.0//EN
METHOD:PUBLISH
X-PUBLISHED-TTL:P3D
REFRESH-INTERVAL:P3D
CALSCALE:GREGORIAN
BEGIN:VEVENT
DTSTART:20171015T140000Z
DTEND:20171015T180000Z
X-MICROSOFT-CDO-ALLDAYEVENT:FALSE
SUMMARY:Car Show & Brunch in Longwood
DESCRIPTION:Mark your calendars to attend our second annual event\, held at Tint World in Longwood!\n\n\n\nThis event is FREE to attend and FREE to show off your ride! All vehicle makes and models welcome. Bring the whole family!\n\n\n\n  Many Custom Show Cars On Display\n\n  Music by Cruisin Orlando - DJ Don\n\n  Catered Brunch Available to Purchase from Crave It Love It\, LLC - Chef Robert\n\n  Free Product Raffles\n\n  "Spin The Wheel" for Instant Free Giveaways\n\n  Tint World Show Specials\n\n  Plus Other Vendors including Mint Condition Car Care / Adams Polishes\, and more!\n\n\n\nBrunch menu includes:\n\n  French Toast w/ Fresh Whipped Cream\n\n  Shrimp & Grits\n\n  Scrambled Eggs with Sausage or Bacon\, and Breakfast Potatoes\n\n  Chicken & Waffles\n\n  Assorted Juices\, Coffee\, and Mimosas
X-ALT-DESC;FMTTYPE=text/html:<span style="color:rgb(75\, 79\, 86)\; font-family:system-ui\,-apple-system\,blinkmacsystemfont\,.sfnstext-regular\,sans-serif\; font-size:14px">Mark your calendars to attend our second annual event\, held at Tint World in Longwood!</span><br />\n<br />\n<span style="color:rgb(75\, 79\, 86)\; font-family:system-ui\,-apple-system\,blinkmacsystemfont\,.sfnstext-regular\,sans-serif\; font-size:14px">This event is FREE to attend and FREE to show off your ride! All vehicle makes and models welcome. Bring the whole family!</span><br />\n<br />\n<span style="color:rgb(75\, 79\, 86)\; font-family:system-ui\,-apple-system\,blinkmacsystemfont\,.sfnstext-regular\,sans-serif\; font-size:14px">&bull\; Many Custom Show Cars On Display</span><br />\n<span style="color:rgb(75\, 79\, 86)\; font-family:system-ui\,-apple-system\,blinkmacsystemfont\,.sfnstext-regular\,sans-serif\; font-size:14px">&bull\; Music by&nbsp\;</span><a href="https://www.facebook.com/CruisinOrlando/" style="color: rgb(54\, 88\, 153)\; cursor: pointer\; text-decoration: none\; font-family: system-ui\, -apple-system\, BlinkMacSystemFont\, &quot\;.SFNSText-Regular&quot\;\, sans-serif\; font-size: 14px\;">Cruisin Orlando</a><span style="color:rgb(75\, 79\, 86)\; font-family:system-ui\,-apple-system\,blinkmacsystemfont\,.sfnstext-regular\,sans-serif\; font-size:14px">&nbsp\;- DJ Don</span><br />\n<span style="color:rgb(75\, 79\, 86)\; font-family:system-ui\,-apple-system\,blinkmacsystemfont\,.sfnstext-regular\,sans-serif\; font-size:14px">&bull\; Catered Brunch Available to Purchase from&nbsp\;</span><a href="https://www.facebook.com/craveitloveit/" style="color: rgb(54\, 88\, 153)\; cursor: pointer\; text-decoration: none\; font-family: system-ui\, -apple-system\, BlinkMacSystemFont\, &quot\;.SFNSText-Regular&quot\;\, sans-serif\; font-size: 14px\;">Crave It Love It\, LLC</a><span style="color:rgb(75\, 79\, 86)\; font-family:system-ui\,-apple-system\,blinkmacsystemfont\,.sfnstext-regular\,sans-serif\; font-size:14px">&nbsp\;- Chef Robert</span><br />\n<span style="color:rgb(75\, 79\, 86)\; font-family:system-ui\,-apple-system\,blinkmacsystemfont\,.sfnstext-regular\,sans-serif\; font-size:14px">&bull\; Free Product Raffles</span><br />\n<span style="color:rgb(75\, 79\, 86)\; font-family:system-ui\,-apple-system\,blinkmacsystemfont\,.sfnstext-regular\,sans-serif\; font-size:14px">&bull\; &quot\;Spin The Wheel&quot\; for Instant Free Giveaways</span><br />\n<span style="color:rgb(75\, 79\, 86)\; font-family:system-ui\,-apple-system\,blinkmacsystemfont\,.sfnstext-regular\,sans-serif\; font-size:14px">&bull\; Tint World Show Specials</span><br />\n<span style="color:rgb(75\, 79\, 86)\; font-family:system-ui\,-apple-system\,blinkmacsystemfont\,.sfnstext-regular\,sans-serif\; font-size:14px">&bull\; Plus Other Vendors including&nbsp\;</span><a href="https://www.facebook.com/mintconditioncc/" style="color: rgb(54\, 88\, 153)\; cursor: pointer\; text-decoration: none\; font-family: system-ui\, -apple-system\, BlinkMacSystemFont\, &quot\;.SFNSText-Regular&quot\;\, sans-serif\; font-size: 14px\;">Mint Condition Car Care</a><span style="color:rgb(75\, 79\, 86)\; font-family:system-ui\,-apple-system\,blinkmacsystemfont\,.sfnstext-regular\,sans-serif\; font-size:14px">&nbsp\;/&nbsp\;</span><a href="https://www.facebook.com/adamspolishes/" style="color: rgb(54\, 88\, 153)\; cursor: pointer\; text-decoration: none\; font-family: system-ui\, -apple-system\, BlinkMacSystemFont\, &quot\;.SFNSText-Regular&quot\;\, sans-serif\; font-size: 14px\;">Adams Polishes</a><span style="color:rgb(75\, 79\, 86)\; font-family:system-ui\,-apple-system\,blinkmacsystemfont\,.sfnstext-regular\,sans-serif\; font-size:14px">\, and more!</span><br />\n<br />\n<span style="color:rgb(75\, 79\, 86)\; font-family:system-ui\,-apple-system\,blinkmacsystemfont\,.sfnstext-regular\,sans-serif\; font-size:14px">Brunch menu includes:<br />\n&bull\; French Toast w/ Fresh Whipped Cream<br />\n&bull\; Shrimp &amp\; Grits<br />\n&bull\; Scrambled Eggs with Sausage or Bacon\, and Breakfast Potatoes<br />\n&bull\; Chicken &amp\; Waffles<br />\n&bull\; Assorted Juices\, Coffee\, and Mimosas</span>
LOCATION:Tint World Longwood 2100 N Ronald Reagan Blvd. #1008 Longwood\, FL 32750 321-247-TINT (8468)
UID:e.2138.8315
SEQUENCE:3
DTSTAMP:20260424T043420Z
URL:https://business.seminolebusiness.org/events/details/car-show-brunch-in-longwood-8315
END:VEVENT

END:VCALENDAR
