BEGIN:VCALENDAR
VERSION:2.0
PRODID:-//ChamberMaster//Event Calendar 2.0//EN
METHOD:PUBLISH
X-PUBLISHED-TTL:P3D
REFRESH-INTERVAL:P3D
CALSCALE:GREGORIAN
BEGIN:VEVENT
DTSTART:20170211T160000Z
DTEND:20170211T210000Z
X-MICROSOFT-CDO-ALLDAYEVENT:FALSE
SUMMARY:Cars for the Cure Auto Show
DESCRIPTION:Free to the public\, this all-day show is the auto enthusiast's dream! Some of the most powerful and highly-tuned cars from around the world will be on display: international and American Customs\, European exotics\, high-power racers\, muscle cars\, custom bikes and more. The streets are lined with great shops\, restaurants\, attractions and a variety of sponsor booths. Make any donation to the American Lung Association to receive a wristband for free beer\, wine\, soda\, and merchant perks all day.
X-ALT-DESC;FMTTYPE=text/html:Free to the public\, this all-day show is the auto enthusiast&#39\;s dream! Some of the most powerful and highly-tuned cars from around the world will be on display: international and American Customs\, European exotics\, high-power racers\, muscle cars\, custom bikes and more. The streets are lined with great shops\, restaurants\, attractions and a variety of sponsor booths. Make any donation to the American Lung Association to receive a wristband for free beer\, wine\, soda\, and merchant perks all day.
LOCATION:Colonial TownPark in Lake Mary 950 Market Promenade Avenue Lake Mary\, FL 32746
UID:e.2138.4806
SEQUENCE:3
DTSTAMP:20260423T161909Z
URL:https://business.seminolebusiness.org/events/details/cars-for-the-cure-auto-show-02-11-2017-4806
END:VEVENT

END:VCALENDAR
