BEGIN:VCALENDAR
VERSION:2.0
PRODID:-//ChamberMaster//Event Calendar 2.0//EN
METHOD:PUBLISH
X-PUBLISHED-TTL:P3D
REFRESH-INTERVAL:P3D
CALSCALE:GREGORIAN
BEGIN:VEVENT
DTSTART:20160826T160000Z
DTEND:20160826T170000Z
X-MICROSOFT-CDO-ALLDAYEVENT:FALSE
SUMMARY:Cars for the Cure Volunteer Leadership Team Meeting
DESCRIPTION:Join community leaders from Seminole County to network\, get engaged\, and help with planning the largest charitable car show in Central Florida.  This group brings together ideas and resources to accomplish various aspects of the event including community events and promotions\, media relations\, corporate development\, volunteer recruitment\, and the silent auction.
X-ALT-DESC;FMTTYPE=text/html:Join community leaders from Seminole County to network\, get engaged\, and help with planning the largest charitable car show in Central Florida.&nbsp\; This group brings together ideas and resources to accomplish various aspects of the event including community events and promotions\, media relations\, corporate development\, volunteer recruitment\, and the silent auction.
LOCATION:Liam Fitzpatrick's Irish Restaurant at Colonial TownPark 951 Market Promenade Avenue Lake Mary\, FL 32746
UID:e.2138.4807
SEQUENCE:3
DTSTAMP:20260425T194037Z
URL:https://business.seminolebusiness.org/events/details/cars-for-the-cure-volunteer-leadership-team-meeting-08-26-2016-4807
END:VEVENT

END:VCALENDAR
