BEGIN:VCALENDAR
VERSION:2.0
PRODID:-//ChamberMaster//Event Calendar 2.0//EN
METHOD:PUBLISH
X-PUBLISHED-TTL:P3D
REFRESH-INTERVAL:P3D
CALSCALE:GREGORIAN
BEGIN:VEVENT
DTSTART:20190621T230000Z
DTEND:20190622T020000Z
X-MICROSOFT-CDO-ALLDAYEVENT:FALSE
SUMMARY:Cee Jay's Book Launch
DESCRIPTION:Cee Jay Besa launches the much-anticipated book titled "The CEO of your Life". This book is a personal growth and development book armed with amazing life principles to help the reader to break free from self-limiting beliefs and circumstances and begin to live a life of abundance. After much success in Dallas\, the launch will be held again in Orlando. The launch will happen at 6859 Edgewater Commerce Parkway and will be hosted by Stylist and TV host Katrina Lee-Jones and special guest speaker Rich Richardson will be there to add value to the event.
X-ALT-DESC;FMTTYPE=text/html:<strong>Cee Jay Besa</strong><span style="color:rgb(0\, 0\, 0)\; font-family:helvetica neue\,helvetica\,arial\,sans-serif">&nbsp\;launches the much-anticipated book titled&nbsp\;</span><strong>&quot\;The CEO of your Life&quot\;</strong><span style="color:rgb(0\, 0\, 0)\; font-family:helvetica neue\,helvetica\,arial\,sans-serif">. This book is a personal growth and development book armed with amazing life principles to help the reader to break free from self-limiting beliefs and circumstances and begin to live a life of abundance. After much success in Dallas\, the launch will be held again in Orlando. The launch will happen at&nbsp\;</span><strong>6859 Edgewater Commerce Parkway</strong><span style="color:rgb(0\, 0\, 0)\; font-family:helvetica neue\,helvetica\,arial\,sans-serif">&nbsp\;and will be hosted by Stylist and TV host&nbsp\;</span><strong>Katrina Lee-Jones</strong><span style="color:rgb(0\, 0\, 0)\; font-family:helvetica neue\,helvetica\,arial\,sans-serif">&nbsp\;and special guest speaker&nbsp\;<strong>Rich Richardson</strong>&nbsp\;will be there to add value to the event.</span><br />\n&nbsp\;
LOCATION:6859 Edgewater Commerce Parkway\, Orlando 32810
UID:e.2138.15210
SEQUENCE:3
DTSTAMP:20260422T062924Z
URL:https://business.seminolebusiness.org/events/details/cee-jay-s-book-launch-15210
END:VEVENT

END:VCALENDAR
