BEGIN:VCALENDAR
VERSION:2.0
PRODID:-//ChamberMaster//Event Calendar 2.0//EN
METHOD:PUBLISH
X-PUBLISHED-TTL:P3D
REFRESH-INTERVAL:P3D
CALSCALE:GREGORIAN
BEGIN:VEVENT
DTSTART:20231208T230000Z
DTEND:20231209T020000Z
X-MICROSOFT-CDO-ALLDAYEVENT:FALSE
SUMMARY:Celebrate the Season In Longwood
DESCRIPTION:On Friday\, December 8\, from 6 pm to 9 pm join the festivities at the City of Longwood's Annual Celebrate the Season Event. This holiday street party will feature an array of activities including photo opportunities with Santa\, music by DJ Dennis\, performances by One School of the Arts\, an inflatable snow maze\, giant fun slides\, a petting zoo\, a trackless train\, 10+ food trucks and a major laser light show throughout the event.\n\n\n\nFor more information\, please call 407-260-3497 or email rrinaldo@longwoodfl.org. Tickets for activities are available the day of (cash only)
X-ALT-DESC;FMTTYPE=text/html:<div>On Friday\, December 8\, from 6 pm to 9 pm join the festivities at the City of Longwood&#39\;s Annual Celebrate the Season Event. This holiday street party will feature an array of activities including photo opportunities with Santa\, music by DJ Dennis\, performances by One School of the Arts\, an inflatable snow maze\, giant fun slides\, a petting zoo\, a trackless train\, 10+ food trucks and a major laser light show throughout the event.</div>\n\n<div><br />\nFor more information\, please call 407-260-3497 or email rrinaldo@longwoodfl.org. Tickets for activities are available the day of (cash only)</div>\n
LOCATION:Reiter Park 311 W Warren Ave Longwood\, FL 32750
UID:e.2138.33303
SEQUENCE:3
DTSTAMP:20260424T202932Z
URL:https://business.seminolebusiness.org/events/details/celebrate-the-season-in-longwood-33303
END:VEVENT

END:VCALENDAR
