BEGIN:VCALENDAR
VERSION:2.0
PRODID:-//ChamberMaster//Event Calendar 2.0//EN
METHOD:PUBLISH
X-PUBLISHED-TTL:P3D
REFRESH-INTERVAL:P3D
CALSCALE:GREGORIAN
BEGIN:VEVENT
DTSTART:20190621T223000Z
DTEND:20190622T013000Z
X-MICROSOFT-CDO-ALLDAYEVENT:FALSE
SUMMARY:Celebrating Independence Gala
DESCRIPTION:Please join us in attending the Center for Independent Living's Celebrating Independence Gala at the Alfond Inn on Friday\, June 21. Highlights of the night will include a silent auction\, key raffle\, and a photo booth. Dinner and dessert will be catered by the Alfond along with a cocktail hour and complimentary beer & wine. This year's Beverly Chapman Legacy Award will also be presented. Event starts at 6:30 pm. \n\n\n\nIf you would like to reserve a room the evening of the gala\, please visit www.thealfondinn.com For your patronage a discounted room rate is available\, when booking online enter in the code INDEPENDENCE in the Group Code box for a discounted room rate.
X-ALT-DESC;FMTTYPE=text/html:<span style="background-color:rgb(255\, 255\, 255)\; color:rgb(29\, 33\, 41)\; font-family:system-ui\,-apple-system\,system-ui\,.sfnstext-regular\,sans-serif\; font-size:14px">Please join us in attending the Center for Independent Living&#39\;s Celebrating Independence Gala at the Alfond Inn on Friday\, June 21. Highlights of the night will include a silent auction\, key raffle\, and a photo booth. Dinner and dessert will be catered by the Alfond along with a cocktail hour and complimentary beer &amp\; wine. This year&#39\;s Beverly Chapman Legacy Award will also be presented. Event starts at 6:30 pm. </span><br />\n<br />\n<span style="background-color:rgb(255\, 255\, 255)\; color:rgb(29\, 33\, 41)\; font-family:system-ui\,-apple-system\,system-ui\,.sfnstext-regular\,sans-serif\; font-size:14px">If you would like to reserve a room the evening of the gala\, please visit </span><a href="http://www.thealfondinn.com/?fbclid=IwAR2C5XFYWAieK07mMoywe0877G4oqSFNzt0i3s606-KexKpxQ-7_CKPVsV0" rel="nofollow noopener" style="color: rgb(54\, 88\, 153)\; cursor: pointer\; text-decoration-line: none\; font-family: system-ui\, -apple-system\, system-ui\, &quot\;.SFNSText-Regular&quot\;\, sans-serif\; font-size: 14px\; white-space: pre-wrap\; background-color: rgb(255\, 255\, 255)\;" target="_blank">www.thealfondinn.com</a><span style="background-color:rgb(255\, 255\, 255)\; color:rgb(29\, 33\, 41)\; font-family:system-ui\,-apple-system\,system-ui\,.sfnstext-regular\,sans-serif\; font-size:14px"> For your patronage a discounted room rate is available\, when booking online enter in the code INDEPENDENCE in the Group Code box for a discounted room rate. </span>
LOCATION:The Alfond Inn 300 E New England Ave Winter Park\, Florida 32789
UID:e.2138.14964
SEQUENCE:3
DTSTAMP:20260422T063014Z
URL:https://business.seminolebusiness.org/events/details/celebrating-independence-gala-14964
END:VEVENT

END:VCALENDAR
