BEGIN:VCALENDAR
VERSION:2.0
PRODID:-//ChamberMaster//Event Calendar 2.0//EN
METHOD:PUBLISH
X-PUBLISHED-TTL:P3D
REFRESH-INTERVAL:P3D
CALSCALE:GREGORIAN
BEGIN:VEVENT
DTSTART:20250820T160000Z
DTEND:20250820T170000Z
X-MICROSOFT-CDO-ALLDAYEVENT:FALSE
SUMMARY:Celesq AttorneysEd Center -- Command and Influence: Strategies for Leading Difficult Negotiations
DESCRIPTION:Attorney Eric C. Boughman presents for the Celesq AttorneysEd Center\, exploring strategic\, emotionally intelligent negotiation skills to lead high-stakes legal disputes with clarity and control in his seminar:\n\n\n\nCommand and Influence:  Strategies for Leading Difficult Negotiations\n\nIn this seminar\, we explore how attorneys can take command of difficult negotiations by blending strategic insight with emotional intelligence. Drawing from behavioral economics\, power dynamics\, and proven mediation techniques used in legal practice\, we examine how attorneys can maintain authority\, reframe resistance\, and shift leverage without escalating conflict. Participants will learn to spot hidden interests in litigation\, transactional\, and client-facing contexts\; neutralize aggressive tactics from opposing counsel\; and guide negotiations with clarity and purpose. Through real-world scenarios and tactical frameworks drawn from actual legal disputes and deal-making\, attendees will gain the skills to lead even the most challenging negotiations with composure and control. Attendees will leave with actionable strategies to influence outcomes\, protect their client's position\, and turn negotiation pressure into opportunity\, whether in court\, settlement conferences\, or complex deal tables.
X-ALT-DESC;FMTTYPE=text/html:Attorney Eric C. Boughman presents for the Celesq AttorneysEd Center\, exploring strategic\, emotionally intelligent negotiation skills to lead high-stakes legal disputes with clarity and control in his seminar:<br />\n<br />\n<strong>Command and Influence:&nbsp\; Strategies for Leading Difficult Negotiations</strong><br />\nIn this seminar\, we explore how attorneys can take command of difficult negotiations by blending strategic insight with emotional intelligence. Drawing from behavioral economics\, power dynamics\, and proven mediation techniques used in legal practice\, we examine how attorneys can maintain authority\, reframe resistance\, and shift leverage without escalating conflict. Participants will learn to spot hidden interests in litigation\, transactional\, and client-facing contexts\; neutralize aggressive tactics from opposing counsel\; and guide negotiations with clarity and purpose. Through real-world scenarios and tactical frameworks drawn from actual legal disputes and deal-making\, attendees will gain the skills to lead even the most challenging negotiations with composure and control. Attendees will leave with actionable strategies to influence outcomes\, protect their client&rsquo\;s position\, and turn negotiation pressure into opportunity\, whether in court\, settlement conferences\, or complex deal tables.
LOCATION:Get more information: https://www.celesq.com/webcast/command-and-influence-strategies-for-leading-difficult-negotiations
UID:e.2138.37836
SEQUENCE:3
DTSTAMP:20260423T084954Z
URL:https://business.seminolebusiness.org/events/details/celesq-attorneysed-center-command-and-influence-strategies-for-leading-difficult-negotiations-37836
END:VEVENT

END:VCALENDAR
