BEGIN:VCALENDAR
VERSION:2.0
PRODID:-//ChamberMaster//Event Calendar 2.0//EN
METHOD:PUBLISH
X-PUBLISHED-TTL:P3D
REFRESH-INTERVAL:P3D
CALSCALE:GREGORIAN
BEGIN:VEVENT
DTSTART:20180405T210000Z
DTEND:20180405T230000Z
X-MICROSOFT-CDO-ALLDAYEVENT:FALSE
SUMMARY:Center for Fine and Performing Arts: 49th Annual Juried Student Art Exhibit (gallery opening reception)
DESCRIPTION:The season concludes with an exhibit featuring a juried selection of work executed during the past year by Seminole State Fine Arts students. Media include: photography\, painting\, printmaking\, drawing\, mixed-media\, ceramics and sculpture.\n\n\n\nThe Seminole State College Fine Arts Gallery provides memorable exhibitions for diverse audiences\, students and artists that promote the value and understanding of contemporary art within a local\, national and international context.\n\n\n\nThe exhibit opens from 5-7 p.m. on Thursday\, April 5\, and continues through May 2.
X-ALT-DESC;FMTTYPE=text/html:The season concludes with an exhibit featuring a juried selection of work executed during the past year by Seminole State Fine Arts students. Media include: photography\, painting\, printmaking\, drawing\, mixed-media\, ceramics and sculpture.<br />\n<br />\nThe Seminole State College Fine Arts Gallery provides memorable exhibitions for diverse audiences\, students and artists that promote the value and understanding of contemporary art within a local\, national and international context.<br />\n<br />\nThe exhibit opens from 5-7 p.m. on Thursday\, April 5\, and continues through May 2.<br />\n<br />\n<br />\n<br />\n<br />\n&nbsp\;
LOCATION:Fine Arts Gallery (building G) Seminole State College of Florida Sanford/Lake Mary Campus 100 Weldon Blvd. Sanford\, FL 32773
UID:e.2138.8232
SEQUENCE:3
DTSTAMP:20260424T120512Z
URL:https://business.seminolebusiness.org/events/details/center-for-fine-and-performing-arts-gallery-opening-reception-49th-annual-juried-student-art-exhibit-8232
END:VEVENT

END:VCALENDAR
