BEGIN:VCALENDAR
VERSION:2.0
PRODID:-//ChamberMaster//Event Calendar 2.0//EN
METHOD:PUBLISH
X-PUBLISHED-TTL:P3D
REFRESH-INTERVAL:P3D
CALSCALE:GREGORIAN
BEGIN:VEVENT
DTSTART:20180427T233000Z
DTEND:20180428T010000Z
X-MICROSOFT-CDO-ALLDAYEVENT:FALSE
SUMMARY:Center for Fine and Performing Arts: Gotta Dance (opening night)
DESCRIPTION:Join us for two evenings and an afternoon of dance! \n\n\n\nSeminole State College's Center for Fine and Performing Arts Theatre presents six major productions per year.\n\n\n\n*Tickets on sale: April 9
X-ALT-DESC;FMTTYPE=text/html:Join us for two evenings and an afternoon of dance!&nbsp\;<br />\n<br />\nSeminole State College&rsquo\;s Center for Fine and Performing Arts Theatre presents six major productions per year.<br />\n<br />\n*Tickets on sale: April 9
LOCATION:Harriett's Theatre (building G) Seminole State College of Florida Sanford/Lake Mary Campus 100 Weldon Blvd. Sanford\, FL 32773
UID:e.2138.8241
SEQUENCE:3
DTSTAMP:20260424T121630Z
URL:https://business.seminolebusiness.org/events/details/center-for-fine-and-performing-arts-theater-opening-night-gotta-dance-8241
END:VEVENT

END:VCALENDAR
