BEGIN:VCALENDAR
VERSION:2.0
PRODID:-//ChamberMaster//Event Calendar 2.0//EN
METHOD:PUBLISH
X-PUBLISHED-TTL:P3D
REFRESH-INTERVAL:P3D
CALSCALE:GREGORIAN
BEGIN:VEVENT
DTSTART:20180210T003000Z
DTEND:20180210T020000Z
X-MICROSOFT-CDO-ALLDAYEVENT:FALSE
SUMMARY:Center for Fine and Performing Arts: Peter and the Starcatcher (theater opening night)
DESCRIPTION:Peter and the Starcatcher\, by Rick Elice\, is based on the novel by Dave Barry and Ridley Pearson.\n\n\n\nA young orphan and his mates are shipped off from Victorian England to a distant island ruled by the evil King Zarboff. They know nothing of the mysterious trunk in the captain's cabin\, which contains a precious\, otherworldly cargo. At sea\, the boys are discovered by a precocious young girl named Molly\, a Starcatcher-in-training who realizes that the trunk's precious cargo is starstuff\, a celestial substance so powerful that it must never fall into the wrong hands. When the ship is taken over by pirates   led by the fearsome Black Stache\, a villain determined to claim the trunk and its treasure for his own   the journey quickly becomes a thrilling adventure.\n\n\n\nSeminole State College's Center for Fine and Performing Arts Theatre presents six major productions per year.\n\n\n\nTickets on sale: January 22.
X-ALT-DESC;FMTTYPE=text/html:Peter and the Starcatcher\, by Rick Elice\, is based on the novel by Dave Barry and Ridley Pearson.<br />\n<br />\nA young orphan and his mates are shipped off from Victorian England to a distant island ruled by the evil King Zarboff. They know nothing of the mysterious trunk in the captain&rsquo\;s cabin\, which contains a precious\, otherworldly cargo. At sea\, the boys are discovered by a precocious young girl named Molly\, a Starcatcher-in-training who realizes that the trunk&rsquo\;s precious cargo is starstuff\, a celestial substance so powerful that it must never fall into the wrong hands. When the ship is taken over by pirates &ndash\; led by the fearsome Black Stache\, a villain determined to claim the trunk and its treasure for his own &ndash\; the journey quickly becomes a thrilling adventure.<br />\n<br />\nSeminole State College&rsquo\;s Center for Fine and Performing Arts Theatre presents six major productions per year.<br />\n<br />\nTickets on sale: January 22.
LOCATION:Harriett's Theatre (building G) Seminole State College of Florida Sanford/Lake Mary Campus 100 Weldon Blvd. Sanford\, FL 32773
UID:e.2138.8238
SEQUENCE:3
DTSTAMP:20260424T113521Z
URL:https://business.seminolebusiness.org/events/details/center-for-fine-and-performing-arts-theater-opening-night-peter-and-the-starcatcher-8238
END:VEVENT

END:VCALENDAR
